BEGIN:VCALENDAR
VERSION:2.0
PRODID:-//ChamberMaster//Event Calendar 2.0//EN
METHOD:PUBLISH
X-PUBLISHED-TTL:P3D
REFRESH-INTERVAL:P3D
CALSCALE:GREGORIAN
BEGIN:VEVENT
DTSTART:20190816T000000Z
DTEND:20190816T020000Z
X-MICROSOFT-CDO-ALLDAYEVENT:FALSE
SUMMARY:August 15\, 2019 - Summer Sizzle Networking - Elements Casino
DESCRIPTION:Don't let summer get in the way of your networking! Network track-side at Elements Casino to celebrate this sunny season the right way!\n\n\n\nElements Casino Surrey is home to the best gaming\, entertainment\, and dining options. Whether you want a great selection of casino games\, a live concert\, delicious food in a great venue\, or all of the above\, drop in to Elements Casino Surrey!\n\n\n\nEnjoy a complimentary drink\, appetizers\, and great company!\n\nEvent payment is due upon registration. Cancellations for event attendance\, sponsorship\, or exhibitor space will not be refunded. An event registration is considered a commitment to pay. While event registration is non-refundable\, cancellations before three full business days of the event may be eligible for a credit towards a future event. Some exclusions apply.
X-ALT-DESC;FMTTYPE=text/html:Don&#39\;t let summer get in the way of your networking! Network track-side at Elements Casino to celebrate this sunny season the right way!<br />\n<br />\nElements Casino Surrey is home to the best gaming\, entertainment\, and dining options. Whether you want a great selection of casino games\, a live concert\, delicious food in a great venue\, or all of the above\, drop in to Elements Casino Surrey!<br />\n<br />\nEnjoy a complimentary drink\, appetizers\, and great company!\n<hr />\n<div style="color: rgb(34\, 34\, 34)\; font-family: Arial\, Helvetica\, sans-serif\; font-size: small\;"><em>Event payment is due upon registration. Cancellations for event attendance\, sponsorship\, or exhibitor space will not be refunded. An event registration is considered a commitment to pay. While event registration is non-refundable\, cancellations before three full business days of the event may be eligible for a credit towards a future event. Some exclusions apply.</em></div>\n
LOCATION:Element's Casino Fraser Downs Recetrack (17755 60 Ave\, Surrey)
UID:e.749.10491
SEQUENCE:3
DTSTAMP:20260420T150932Z
URL:https://business.swrbot.com/events/details/august-15-2019-summer-sizzle-networking-elements-casino-08-15-2019-10491
END:VEVENT

END:VCALENDAR
