BEGIN:VCALENDAR
VERSION:2.0
PRODID:-//ChamberMaster//Event Calendar 2.0//EN
METHOD:PUBLISH
X-PUBLISHED-TTL:P3D
REFRESH-INTERVAL:P3D
CALSCALE:GREGORIAN
BEGIN:VEVENT
DTSTART:20140822T000000Z
DTEND:20140822T020000Z
X-MICROSOFT-CDO-ALLDAYEVENT:FALSE
SUMMARY:August 21\, 2014 - Summer Sizzle Rooftop Networking Reception
DESCRIPTION:Summer Sizzle Rooftop Networking Reception\n\n\n\nJoin us at the Surrey Board of Trade's Summer Sizzle Rooftop Reception\, hosted by the Sandman Suites Surrey-Guildford and Moxie's Grill and Bar.\n\n\n\nThis popular event is a great way to wrap up the summer business season!  Enjoy great food\, meet new people and win fabulous prizes! Please register early\, as this event always sells out!
X-ALT-DESC;FMTTYPE=text/html:Summer Sizzle Rooftop Networking Reception<br />\n<br />\n<span style="font-family:arial\;"><span style="font-size:10.0pt\;">Join us at the Surrey Board of Trade&rsquo\;s Summer Sizzle Rooftop Reception\, hosted by the Sandman Suites Surrey-Guildford and Moxie&rsquo\;s Grill and Bar.<br />\n<br />\nThis popular event is a great way to wrap up the summer business season!&nbsp\; Enjoy great food\, meet new people and win fabulous prizes! Please register early\, as this event always sells out!</span></span><br />\n&nbsp\;
LOCATION:Moxie's Grill & Bar 10608 151A Street Surrey\, BC (Registration is in the lobby of the Sandman Hotel)
UID:e.749.2654
SEQUENCE:3
DTSTAMP:20260425T175351Z
URL:https://business.swrbot.com/events/details/august-21-2014-summer-sizzle-rooftop-networking-reception-08-21-2014-2654
END:VEVENT

END:VCALENDAR
