BEGIN:VCALENDAR
VERSION:2.0
PRODID:-//ChamberMaster//Event Calendar 2.0//EN
METHOD:PUBLISH
X-PUBLISHED-TTL:P3D
REFRESH-INTERVAL:P3D
CALSCALE:GREGORIAN
BEGIN:VEVENT
DTSTART:20170823T010000Z
DTEND:20170823T030000Z
X-MICROSOFT-CDO-ALLDAYEVENT:FALSE
SUMMARY:August 22\, 2017 - Update on Current Public Safety in Surrey
DESCRIPTION:The Surrey Board of Trade (SBOT) and South Asian Business Association (SABA) INVITE you to an Update on Current Public Safety in Surrey\n\n\n\nTo provide an update on the current public safety situation in Surrey plus where we would like to go in working proactively and reactively to situations that are actively taking place.\n\n\n\nMembers of the Surrey Board of Trade and the South Asian Business Association only are able to register.    \n\n\n\nThe following guest speakers will be present:\n\n\n	Her Worship\, the Mayor of Surrey Linda Hepner\n	Officer in Charge\, Surrey Detachment\, Dwayne McDonald\n	City of Surrey\, Director Public Safety Strategies\, Terry Waterhouse\n	Minister Public Safety and Solicitor General\, MLA Port Coquitlam\, Honourable Mike Farnworth\n	Deputy Regional Crown Counsel Andrew Macdonald
X-ALT-DESC;FMTTYPE=text/html:<style type="text/css"><!--\n /* Font Definitions */\n@font-face\n	{font-family:Arial\;\n	panose-1:2 11 6 4 2 2 2 2 2 4\;\n	mso-font-charset:0\;\n	mso-generic-font-family:auto\;\n	mso-font-pitch:variable\;\n	mso-font-signature:-536859905 -1073711037 9 0 511 0\;}\n@font-face\n	{font-family:"Courier New"\;\n	panose-1:2 7 3 9 2 2 5 2 4 4\;\n	mso-font-charset:0\;\n	mso-generic-font-family:auto\;\n	mso-font-pitch:variable\;\n	mso-font-signature:-536859905 -1073711037 9 0 511 0\;}\n@font-face\n	{font-family:Wingdings\;\n	panose-1:5 0 0 0 0 0 0 0 0 0\;\n	mso-font-charset:2\;\n	mso-generic-font-family:auto\;\n	mso-font-pitch:variable\;\n	mso-font-signature:0 268435456 0 0 -2147483648 0\;}\n@font-face\n	{font-family:"Cambria Math"\;\n	panose-1:2 4 5 3 5 4 6 3 2 4\;\n	mso-font-charset:1\;\n	mso-generic-font-family:roman\;\n	mso-font-format:other\;\n	mso-font-pitch:variable\;\n	mso-font-signature:0 0 0 0 0 0\;}\n@font-face\n	{font-family:Calibri\;\n	panose-1:2 15 5 2 2 2 4 3 2 4\;\n	mso-font-charset:0\;\n	mso-generic-font-family:auto\;\n	mso-font-pitch:variable\;\n	mso-font-signature:-536870145 1073786111 1 0 415 0\;}\n /* Style Definitions */\np.MsoNormal\, li.MsoNormal\, div.MsoNormal\n	{mso-style-unhide:no\;\n	mso-style-qformat:yes\;\n	mso-style-parent:""\;\n	margin:0in\;\n	margin-bottom:.0001pt\;\n	mso-pagination:widow-orphan\;\n	font-size:12.0pt\;\n	font-family:Calibri\;\n	mso-ascii-font-family:Calibri\;\n	mso-ascii-theme-font:minor-latin\;\n	mso-fareast-font-family:Calibri\;\n	mso-fareast-theme-font:minor-latin\;\n	mso-hansi-font-family:Calibri\;\n	mso-hansi-theme-font:minor-latin\;\n	mso-bidi-font-family:"Times New Roman"\;\n	mso-bidi-theme-font:minor-bidi\;}\np\n	{mso-style-noshow:yes\;\n	mso-style-priority:99\;\n	mso-margin-top-alt:auto\;\n	margin-right:0in\;\n	mso-margin-bottom-alt:auto\;\n	margin-left:0in\;\n	mso-pagination:widow-orphan\;\n	font-size:12.0pt\;\n	font-family:"Times New Roman"\;\n	mso-fareast-font-family:Calibri\;\n	mso-fareast-theme-font:minor-latin\;}\np.m3881177620294316774m5153154149428301862gmail-body\, li.m3881177620294316774m5153154149428301862gmail-body\, div.m3881177620294316774m5153154149428301862gmail-body\n	{mso-style-name:m_3881177620294316774m_5153154149428301862gmail-body\;\n	mso-style-unhide:no\;\n	mso-margin-top-alt:auto\;\n	margin-right:0in\;\n	mso-margin-bottom-alt:auto\;\n	margin-left:0in\;\n	mso-pagination:widow-orphan\;\n	font-size:12.0pt\;\n	font-family:"Times New Roman"\;\n	mso-fareast-font-family:Calibri\;\n	mso-fareast-theme-font:minor-latin\;}\n.MsoChpDefault\n	{mso-style-type:export-only\;\n	mso-default-props:yes\;\n	font-family:Calibri\;\n	mso-ascii-font-family:Calibri\;\n	mso-ascii-theme-font:minor-latin\;\n	mso-fareast-font-family:Calibri\;\n	mso-fareast-theme-font:minor-latin\;\n	mso-hansi-font-family:Calibri\;\n	mso-hansi-theme-font:minor-latin\;\n	mso-bidi-font-family:"Times New Roman"\;\n	mso-bidi-theme-font:minor-bidi\;}\n@page WordSection1\n	{size:8.5in 11.0in\;\n	margin:1.0in 1.0in 1.0in 1.0in\;\n	mso-header-margin:.5in\;\n	mso-footer-margin:.5in\;\n	mso-paper-source:0\;}\ndiv.WordSection1\n	{page:WordSection1\;}\n /* List Definitions */\n@list l0\n	{mso-list-id:1984264406\;\n	mso-list-type:hybrid\;\n	mso-list-template-ids:-564247740 67698689 67698691 67698693 67698689 67698691 67698693 67698689 67698691 67698693\;}\n@list l0:level1\n	{mso-level-number-format:bullet\;\n	mso-level-text:&#61623\;\;\n	mso-level-tab-stop:none\;\n	mso-level-number-position:left\;\n	text-indent:-.25in\;\n	font-family:Symbol\;}\n@list l0:level2\n	{mso-level-number-format:bullet\;\n	mso-level-text:o\;\n	mso-level-tab-stop:none\;\n	mso-level-number-position:left\;\n	text-indent:-.25in\;\n	font-family:"Courier New"\;}\n@list l0:level3\n	{mso-level-number-format:bullet\;\n	mso-level-text:&#61607\;\;\n	mso-level-tab-stop:none\;\n	mso-level-number-position:left\;\n	text-indent:-.25in\;\n	font-family:Wingdings\;}\n@list l0:level4\n	{mso-level-number-format:bullet\;\n	mso-level-text:&#61623\;\;\n	mso-level-tab-stop:none\;\n	mso-level-number-position:left\;\n	text-indent:-.25in\;\n	font-family:Symbol\;}\n@list l0:level5\n	{mso-level-number-format:bullet\;\n	mso-level-text:o\;\n	mso-level-tab-stop:none\;\n	mso-level-number-position:left\;\n	text-indent:-.25in\;\n	font-family:"Courier New"\;}\n@list l0:level6\n	{mso-level-number-format:bullet\;\n	mso-level-text:&#61607\;\;\n	mso-level-tab-stop:none\;\n	mso-level-number-position:left\;\n	text-indent:-.25in\;\n	font-family:Wingdings\;}\n@list l0:level7\n	{mso-level-number-format:bullet\;\n	mso-level-text:&#61623\;\;\n	mso-level-tab-stop:none\;\n	mso-level-number-position:left\;\n	text-indent:-.25in\;\n	font-family:Symbol\;}\n@list l0:level8\n	{mso-level-number-format:bullet\;\n	mso-level-text:o\;\n	mso-level-tab-stop:none\;\n	mso-level-number-position:left\;\n	text-indent:-.25in\;\n	font-family:"Courier New"\;}\n@list l0:level9\n	{mso-level-number-format:bullet\;\n	mso-level-text:&#61607\;\;\n	mso-level-tab-stop:none\;\n	mso-level-number-position:left\;\n	text-indent:-.25in\;\n	font-family:Wingdings\;}\nol\n	{margin-bottom:0in\;}\nul\n	{margin-bottom:0in\;}\n-->\n</style>\n<p style="margin-top:.1pt\;margin-right:0in\;margin-bottom:.1pt\;margin-left:0in"><span style="font-size:14px\;"><span style="font-family: arial\;"><b><i><span style="color: rgb(38\, 38\, 38)\;">The Surrey Board of Trade (SBOT) and South Asian Business Association (SABA) INVITE you to an Update on Current Public Safety in Surrey</span></i></b><br />\n<br />\nTo provide an update on the current public safety situation in Surrey plus where we would like to go in working proactively and reactively to situations that are actively taking place.<br />\n<br />\n<span style="color: rgb(38\, 38\, 38)\;">Members of the Surrey Board of Trade and the South Asian Business Association only are able to register.</span>&nbsp\;&nbsp\;&nbsp\;&nbsp\;</span><br />\n<br />\nThe following guest speakers will be present:</span></p>\n\n<ul>\n	<li style="margin: 0.1pt 0in\;"><span style="font-size:14px\;">Her Worship\, the Mayor of Surrey Linda Hepner</span></li>\n	<li style="margin: 0.1pt 0in\;"><span style="font-size:14px\;">Officer in Charge\, Surrey Detachment\, Dwayne McDonald</span></li>\n	<li style="margin: 0.1pt 0in\;"><span style="font-size:14px\;">City of Surrey\, Director Public Safety Strategies\,&nbsp\;Terry&nbsp\;Waterhouse</span></li>\n	<li style="margin: 0.1pt 0in\;"><span style="font-size:14px\;"><span style="color: rgb(0\, 0\, 0)\;">Minister Public Safety and Solicitor General\,&nbsp\;MLA Port Coquitlam\,&nbsp\;Honourable Mike Farnworth</span></span></li>\n	<li style="margin: 0.1pt 0in\;"><span style="font-size:14px\;"><span style="color: rgb(0\, 0\, 0)\;">Deputy Regional Crown Counsel Andrew Macdonald</span></span></li>\n</ul>\n
LOCATION:Eaglequest Golf Course (7778 - 152 Street\, Surrey BC)
UID:e.749.5432
SEQUENCE:3
DTSTAMP:20260421T214927Z
URL:https://business.swrbot.com/events/details/august-22-2017-update-on-current-public-safety-in-surrey-08-22-2017-5432
END:VEVENT

END:VCALENDAR
