BEGIN:VCALENDAR
VERSION:2.0
PRODID:-//ChamberMaster//Event Calendar 2.0//EN
METHOD:PUBLISH
X-PUBLISHED-TTL:P3D
REFRESH-INTERVAL:P3D
CALSCALE:GREGORIAN
BEGIN:VEVENT
DTSTART:20170823T230000Z
DTEND:20170824T010000Z
X-MICROSOFT-CDO-ALLDAYEVENT:FALSE
SUMMARY:August 23\, 2017 - Fraser River Networking Boat Tour
DESCRIPTION:SOLD OUT! Please call 604.581.7130 to be added to the wait list.\n\n\n\nSponsored by the Port of Vancouver\, the boat tour provides an unparalleled opportunity to network with members from around Metro Vancouver while learning more about our busy waterways and the port's contribution to our\n\neconomy. Space is limited. Register early so you won't be disappointed!\n\n\n\nMeet behind the Inn at the Quay Hotel on the New Westminster Quay. Departure at 4:15 pm for members to tour the mighty Fraser. The narrated tour includes Fraser Surrey Docks and the Wallenius Wilhemsen Logistics automobile terminal. Learn about key infrastructures\, landmarks\, and environment sustainability initiatives.
X-ALT-DESC;FMTTYPE=text/html:<strong>SOLD OUT! Please call 604.581.7130 to be added to the wait list.</strong><br />\n<br />\nSponsored by the Port of Vancouver\, the boat tour provides an unparalleled opportunity to network with members from around Metro Vancouver while learning more about our busy waterways and the port&#39\;s contribution to our<br />\neconomy. Space is limited. Register early so you won&#39\;t be disappointed!<br />\n<br />\nMeet behind the Inn at the Quay Hotel on the New Westminster Quay. Departure at 4:15 pm for members to tour the mighty Fraser. The narrated tour includes Fraser Surrey Docks and the Wallenius Wilhemsen Logistics automobile terminal. Learn about key infrastructures\, landmarks\, and environment sustainability initiatives.
LOCATION:New Westminster Quay 900 Quayside Drive\, New West
UID:e.749.5362
SEQUENCE:3
DTSTAMP:20260421T214759Z
URL:https://business.swrbot.com/events/details/august-23-2017-fraser-river-networking-boat-tour-08-23-2017-5362
END:VEVENT

END:VCALENDAR
