BEGIN:VCALENDAR
VERSION:2.0
PRODID:-//ChamberMaster//Event Calendar 2.0//EN
METHOD:PUBLISH
X-PUBLISHED-TTL:P3D
REFRESH-INTERVAL:P3D
CALSCALE:GREGORIAN
BEGIN:VEVENT
DTSTART:20180824T003000Z
DTEND:20180824T023000Z
X-MICROSOFT-CDO-ALLDAYEVENT:FALSE
SUMMARY:August 23\, 2018 - Summer Sizzle Networking Series at the Civic Hotel!
DESCRIPTION:Dining at the Civic Hotel is upscale and fun! Local leaders meet at their stylish signature restaurant for appetizers with a side of innovation and business travellers find comfortable corners to loosen up over crafted cocktails\, locally-brewed beer and a wide variety of award-winning wines and spirits.\n\n\n\nEnjoy a complimentary drink\, appetizers\, and great company!
X-ALT-DESC;FMTTYPE=text/html:Dining at the Civic Hotel is upscale and fun! Local leaders meet at their stylish signature restaurant for appetizers with a side of innovation and business travellers find comfortable corners to loosen up over crafted cocktails\, locally-brewed beer and a wide variety of award-winning wines and spirits.<br />\n<br />\nEnjoy a complimentary drink\, appetizers\, and great company!&nbsp\;
LOCATION:Civic Hotel 13475 103 Ave\, Surrey
UID:e.749.9460
SEQUENCE:3
DTSTAMP:20260421T080059Z
URL:https://business.swrbot.com/events/details/august-23-2018-summer-sizzle-networking-series-at-the-civic-hotel-08-23-2018-9460
END:VEVENT

END:VCALENDAR
