BEGIN:VCALENDAR
VERSION:2.0
PRODID:-//ChamberMaster//Event Calendar 2.0//EN
METHOD:PUBLISH
X-PUBLISHED-TTL:P3D
REFRESH-INTERVAL:P3D
CALSCALE:GREGORIAN
BEGIN:VEVENT
DTSTART:20100825T000000Z
DTEND:20100825T020000Z
X-MICROSOFT-CDO-ALLDAYEVENT:FALSE
SUMMARY:August 24\, 2010 - Summer Sizzle Rooftop Networking Reception
DESCRIPTION:Summer Sizzle Rooftop Reception! Network on the rooftop of Moxie's Classic Grill to celebrate this sunny season the right way!  Learn more about the Sandman Suites Guildford\, a luxury hotel in your own neighbourhood!
X-ALT-DESC;FMTTYPE=text/html:<div><strong>Summer Sizzle Rooftop Reception!</strong></div><div>&nbsp\;</div><div>Network on the rooftop of Moxie's Classic Grill to celebrate this sunny season the right way!&nbsp\; Learn more about the Sandman Suites Guildford\, a luxury hotel in your own neighbourhood!</div>
LOCATION:Moxie's Classic Grill/Sandman Suites Guildford10608 151A Street\, Surrey\, BC
UID:e.749.1605
SEQUENCE:3
DTSTAMP:20260422T141623Z
URL:https://business.swrbot.com/events/details/august-24-2010-summer-sizzle-rooftop-networking-reception-08-24-2010-1605
END:VEVENT

END:VCALENDAR
