BEGIN:VCALENDAR
VERSION:2.0
PRODID:-//ChamberMaster//Event Calendar 2.0//EN
METHOD:PUBLISH
X-PUBLISHED-TTL:P3D
REFRESH-INTERVAL:P3D
CALSCALE:GREGORIAN
BEGIN:VEVENT
DTSTART:20150827T230000Z
DTEND:20150828T010000Z
X-MICROSOFT-CDO-ALLDAYEVENT:FALSE
SUMMARY:August 27\, 2015 - SBOT/PMV Networking River Tour
DESCRIPTION:SOLD OUT\n\nPlease contact Deanna at 604 581 7130 to be put on the wait list and you will be contacted one week prior to the event.\n\n\n\nAs Canada's largest port\, Port Metro Vancouver enables the trade of nearly 20% of Canada's total trade of goods by value. Join your fellow Metro Vancouver chamber members for a tour of the mighty Fraser River aboard an authentic paddlewheeler to learn more about the operations of Port Metro Vancouver to ensure safe and efficient trade of Canada's import and export goods.\n\n\n\nThroughout the tour\, guests will have an up-close view of Port Metro Vancouver's major marine terminals operating in Fraser River\, including the multi-purpose facility\, Fraser Surrey Docks and Wallenius Wilhelmsen Logistics automobile terminal. Narration will be provided about the port's business sectors and key infrastructure and landmarks along the way. You will also hear about the port's air\, land and water protection initiatives and how we continue to work as leaders in port sustainability.
X-ALT-DESC;FMTTYPE=text/html:<br />\n<span style="font-size:20px\;"><u><strong>SOLD OUT</strong></u></span><br />\nPlease contact Deanna at 604 581 7130 to be put on the <strong>wait list</strong> and you will be contacted one week prior to the event.<br />\n<br />\nAs Canada&rsquo\;s largest port\, Port Metro Vancouver enables the trade of nearly 20% of Canada&rsquo\;s total trade of goods by value. Join your fellow Metro Vancouver chamber members for a tour of the mighty Fraser River aboard an authentic paddlewheeler to learn more about the operations of Port Metro Vancouver to ensure safe and efficient trade of Canada&rsquo\;s import and export goods.<br />\n<br />\nThroughout the tour\, guests will have an up-close view of Port Metro Vancouver&rsquo\;s major marine terminals operating in Fraser River\, including the multi-purpose facility\, Fraser Surrey Docks and Wallenius Wilhelmsen Logistics automobile terminal. Narration will be provided about the port&rsquo\;s business sectors and key infrastructure and landmarks along the way. You will also hear about the port&rsquo\;s air\, land and water protection initiatives and how we continue to work as leaders in port sustainability.
LOCATION:Pick-up and drop-off is at New Westminster Quay\, behind Inn at the Quay Hotel (900 Quayside Drive\, New Westminster)
UID:e.749.3633
SEQUENCE:3
DTSTAMP:20260423T181106Z
URL:https://business.swrbot.com/events/details/august-27-2015-sbot-pmv-networking-river-tour-08-27-2015-3633
END:VEVENT

END:VCALENDAR
