BEGIN:VCALENDAR
VERSION:2.0
PRODID:-//ChamberMaster//Event Calendar 2.0//EN
METHOD:PUBLISH
X-PUBLISHED-TTL:P3D
REFRESH-INTERVAL:P3D
CALSCALE:GREGORIAN
BEGIN:VEVENT
DTSTART:20190827T203000Z
DTEND:20190827T213000Z
X-MICROSOFT-CDO-ALLDAYEVENT:FALSE
SUMMARY:August 27\, 2019 - Meet & Greet with the Canadian Chamber Vietnam
DESCRIPTION:The Surrey Board of Trade invites you to a Meet & Greet with a visiting representative from the Canadian Chamber of Commerce Vietnam\, Ryan Leonhard. The purpose of this meeting is to explore business opportunities in Vietnam\, utilizing our global board of trade/chamber of commerce connections. \n\n\n\nSurrey Board of Trade International Trade Centre \n\nThe Surrey International Trade Centre promotes business opportunities around the world to build global business opportunities for local businesses. The Surrey Board of Trade has successfully formed a network with Consulate Offices\, Chambers of Commerce and other international organizations to work together towards the goals of Surrey's International Trade Centre.\n\n\n\nCanadian Chamber of Commerce Vietnam (CanCham)\n\nThe Canadian Chamber of Commerce Vietnam (CanCham) is dedicated to supporting and strengthening business relations between organizations in Vietnam\, between incoming Canada and outgoing Vietnamese companies\, and between Canada and Vietnam. CanCham encourages business relations and opportunities through a variety of means\, particularly via events\, business services\, and advocacy.
X-ALT-DESC;FMTTYPE=text/html:<span style="color: rgb(34\, 34\, 34)\; font-family: Arial\; font-size: 12px\;"><span style="font-family: arial\;">The Surrey Board of Trade invites you to a Meet &amp\; Greet with a visiting representative from the Canadian Chamber of Commerce Vietnam\,&nbsp\;Ryan Leonhard. The purpose of this meeting is to explore business opportunities in Vietnam\, utilizing our global board of trade/chamber of commerce connections.&nbsp\;</span></span><br />\n<br />\n<span style="font-size:12px\;"><span style="color: rgb(10\, 10\, 10)\; font-family: Roboto\, Univers\, &quot\;Helvetica Neue&quot\;\, Helvetica\, Arial\, sans-serif\; background-color: rgba(255\, 255\, 255\, 0.4)\;"><a href="https://businessinsurrey.com/international/"><u><strong>Surrey Board of Trade International Trade Centre&nbsp\;</strong></u></a><br />\nThe Surrey International Trade Centre promotes business opportunities around the world to build global business opportunities for local businesses. The Surrey Board of Trade has successfully formed a network with Consulate Offices\, Chambers of Commerce and other international organizations to work together towards the goals of Surrey&rsquo\;s International Trade Centre.</span></span><br />\n<br />\n<a href="https://canchamvietnam.org/index.php/what-we-do/business"><u><strong><span style="color: rgb(35\, 35\, 35)\; font-family: arial\; font-size: 12px\;">Canadian Chamber of Commerce Vietnam (CanCham)</span></strong></u></a><br />\n<span style="font-family:arial\;"><span style="font-size:12px\;"><span style="color: rgb(35\, 35\, 35)\;">The Canadian Chamber of Commerce Vietnam (CanCham) is dedicated to supporting and strengthening business relations between organizations in Vietnam\, between incoming Canada and outgoing Vietnamese companies\, and between Canada and Vietnam. CanCham encourages business relations and opportunities through a variety of means\, particularly via events\, business services\, and advocacy.</span></span></span>
LOCATION:Surrey Board of Trade Conference Room (101-14439\, 104th Avenue\, Surrey\, BC V3R 1M1)
UID:e.749.10567
SEQUENCE:3
DTSTAMP:20260420T151246Z
URL:https://business.swrbot.com/events/details/august-27-2019-meet-greet-with-the-canadian-chamber-vietnam-08-27-2019-10567
END:VEVENT

END:VCALENDAR
