BEGIN:VCALENDAR
VERSION:2.0
PRODID:-//ChamberMaster//Event Calendar 2.0//EN
METHOD:PUBLISH
X-PUBLISHED-TTL:P3D
REFRESH-INTERVAL:P3D
CALSCALE:GREGORIAN
BEGIN:VEVENT
DTSTART:20190828T143000Z
DTEND:20190828T230000Z
X-MICROSOFT-CDO-ALLDAYEVENT:FALSE
SUMMARY:August 28\, 2019 - Training on Environmental Process in BC - LOCATION CHANGE: SURREY BOARD OF TRADE OFFICE
DESCRIPTION:Are you interested in environmental consulting and investigations? Are you seeking career opportunities in the environmental field? If you are or know of an environmental professional\, graduate or newcomer\, then this is a must-attend training.\n\n\n\nParticipants will receive a formal Certificate of Completion that can be applied towards Professional Development Credits. \n\n \n\nParticipants in this interactive training will learn:\n\np.p1 {margin: 0.0px 0.0px 0.0px 0.0px\; font: 12.0px 'Univers LT Std'\; min-height: 14.0px}\np.p2 {margin: 0.0px 0.0px 0.0px 0.0px\; line-height: 12.1px\; font: 11.5px 'Univers LT Std'\; color: #2d2829}\nspan.s1 {font: 12.0px 'Univers LT Std'\; color: #000000}\n\n\n\n1. A general overview of the applicable laws\, regulations\, guidance documents and protocols for the contaminated site investigation process in BC\, with some actual case studies.\n\n2. Human health and ecological risk assessment process in BC for sites where contamination is left in place.\n\n3. Laboratory analysis and quality assurance/quality control procedures for environmental samples.\n\n \n\nThis training is presented by these field experts:\n\n1. Jay Rao - Manager\, Environmental Services\, Exp Services Inc\n\n2. Stefan Quaglia - President\, Trillium Environmental Ltd.\n\n3. Jasmeen Jatana - Business Development Representative\, ALS Environmental
X-ALT-DESC;FMTTYPE=text/html:<p class="m_-9031388295424748505gmail-p2" lt="" style="margin:0px\;font-variant-numeric:normal\;font-variant-east-asian:normal\;font-stretch:normal\;line-height:normal\;font-family:" univers=""><span class="im"><span style="font-size:12px"><span style="font-family:arial">Are you interested in environmental consulting and investigations? Are you seeking career opportunities in the environmental field? If you are or know of an environmental professional\, graduate or newcomer\, then this is a must-attend training.<br style="font-family:arial\;font-size:12px" />\n<br style="font-family:arial\;font-size:12px" />\n<b style="font-family:arial\;font-size:12px">Participants will receive a formal Certificate of Completion that can be applied towards Professional Development Credits.&nbsp\;</b><br style="font-family:arial\;font-size:12px" />\n<strong style="font-family:arial\;font-size:12px">&nbsp\;<br />\nParticipants in this interactive training will learn:</strong></span></span></span><br style="font-family:arial\;font-size:12px" />\n<style type="text/css">p.p1 {margin: 0.0px 0.0px 0.0px 0.0px\; font: 12.0px 'Univers LT Std'\; min-height: 14.0px}\np.p2 {margin: 0.0px 0.0px 0.0px 0.0px\; line-height: 12.1px\; font: 11.5px 'Univers LT Std'\; color: #2d2829}\nspan.s1 {font: 12.0px 'Univers LT Std'\; color: #000000}\n</style>\n</p>\n\n<p class="p1">1. A general overview of the applicable laws\, regulations\, guidance documents and protocols for the contaminated site investigation process in BC\, with some actual case studies.</p>\n\n<p class="p2">2. Human health and ecological risk assessment process in BC for sites where contamination is left in place.</p>\n\n<p class="p2">3. Laboratory analysis and quality assurance/quality control procedures for environmental samples.</p>\n\n<p class="m_-9031388295424748505gmail-p2" lt="" style="margin:0px\;font-variant-numeric:normal\;font-variant-east-asian:normal\;font-stretch:normal\;line-height:normal\;font-family:" univers=""><span class="im"><span style="font-size:12px"><span style="font-family:arial">&nbsp\;<br style="font-family:arial\;font-size:12px" />\n<strong style="font-family:arial\;font-size:12px">This training is presented by these field experts:</strong><br style="font-family:arial\;font-size:12px" />\n1.&nbsp\;<a data-saferedirecturl="https://www.google.com/url?q=https://chambermaster.blob.core.windows.net/userfiles/UserFiles/chambers/749/File/SpeakerBios-EnvironmentWorkshop.pdf&amp\;source=gmail&amp\;ust=1559168053148000&amp\;usg=AFQjCNEW0pBr-chhwKmsT-5Fg6HXt4QSTw" href="https://chambermaster.blob.core.windows.net/userfiles/UserFiles/chambers/749/File/2019Flyer_SpeakersandPresentation.pdf" style="font-family:arial\;font-size:12px" target="_blank">Jay Rao - Manager\, Environmental Services\, Exp Services Inc</a><br style="font-family:arial\;font-size:12px" />\n2.&nbsp\;<a data-saferedirecturl="https://www.google.com/url?q=https://chambermaster.blob.core.windows.net/userfiles/UserFiles/chambers/749/File/SpeakerBios-EnvironmentWorkshop.pdf&amp\;source=gmail&amp\;ust=1559168053148000&amp\;usg=AFQjCNEW0pBr-chhwKmsT-5Fg6HXt4QSTw" href="https://chambermaster.blob.core.windows.net/userfiles/UserFiles/chambers/749/File/2019Flyer_SpeakersandPresentation.pdf" style="font-family:arial\;font-size:12px" target="_blank">Stefan Quaglia - President\, Trillium Environmental Ltd.</a><br style="font-family:arial\;font-size:12px" />\n3.&nbsp\;<a href="https://chambermaster.blob.core.windows.net/userfiles/UserFiles/chambers/749/File/2019Flyer_SpeakersandPresentation.pdf">Jasmeen Jatana - Business Development Representative\, ALS Environmental</a></span></span></span><br style="font-family:arial\;font-size:12px" />\n&nbsp\;</p>\n\n<div>&nbsp\;</div>\n
LOCATION:Surrey Board of Trade (101-14439\, 104th Ave\, Surrey)
UID:e.749.9673
SEQUENCE:3
DTSTAMP:20260420T151022Z
URL:https://business.swrbot.com/events/details/august-28-2019-training-on-environmental-process-in-bc-location-change-surrey-board-of-trade-office-08-28-2019-9673
END:VEVENT

END:VCALENDAR
