BEGIN:VCALENDAR
VERSION:2.0
PRODID:-//ChamberMaster//Event Calendar 2.0//EN
METHOD:PUBLISH
X-PUBLISHED-TTL:P3D
REFRESH-INTERVAL:P3D
CALSCALE:GREGORIAN
BEGIN:VEVENT
DTSTART:20170830T143000Z
DTEND:20170830T163000Z
X-MICROSOFT-CDO-ALLDAYEVENT:FALSE
SUMMARY:August 30\, 2017 - Surrey Board of Trade Consultation on Proposed Government Tax Changes
DESCRIPTION:You are invited to a consultation on the proposed federal government tax changes with the Honourable MP Ken Hardie. Additional Surrey MP's will also be in attendance.  \n\n\n\nThe Department of Finance Canada is considering changes to how businesses will be taxed. As part of our advocacy and value proposition to our members\, we want to ensure that you are aware of all aspects of the proposed changes\, and how it will affect different industries.
X-ALT-DESC;FMTTYPE=text/html:<span style="font-family:arial\;"><span style="background: white none repeat scroll 0% 0%\;"><span style="color: rgb(34\, 34\, 34)\;">You are invited to a&nbsp\;consultation&nbsp\;on the proposed federal government tax changes with the Honourable MP Ken Hardie. Additional Surrey MP&rsquo\;s will also be in attendance.&nbsp\; </span></span><br />\n<br />\n<span style="background: white none repeat scroll 0% 0%\;"><span style="color: rgb(34\, 34\, 34)\;">The Department of Finance Canada is considering changes to how businesses will be taxed. As part of our advocacy and value proposition to our members\, we want to ensure that you are aware of all aspects of the proposed changes\, and how it will affect different industries.</span></span><br />\n&nbsp\;</span><br />\n&nbsp\;
LOCATION:Surrey Board of Trade Conference Room (101-14439 104 Avenue\, Surrey)
UID:e.749.5433
SEQUENCE:3
DTSTAMP:20260421T215913Z
URL:https://business.swrbot.com/events/details/august-30-2017-surrey-board-of-trade-consultation-on-proposed-government-tax-changes-08-30-2017-5433
END:VEVENT

END:VCALENDAR
