BEGIN:VCALENDAR
VERSION:2.0
PRODID:-//ChamberMaster//Event Calendar 2.0//EN
METHOD:PUBLISH
X-PUBLISHED-TTL:P3D
REFRESH-INTERVAL:P3D
CALSCALE:GREGORIAN
BEGIN:VEVENT
DTSTART:20140807T183000Z
DTEND:20140807T203000Z
X-MICROSOFT-CDO-ALLDAYEVENT:FALSE
SUMMARY:August 7\, 2014 - Lunch with International Trade Minister Ed Fast
DESCRIPTION:Surrey Board of Trade Business Luncheon\n\n\n\nKeynote Speaker: Federal International Trade Minister\, Ed Fast\n\n\n\nTopic: Moving Forward - Successful Local Business is Canada's Trade Success\n\nThe Government of Canada has many tools available to support Canadian companies\, especially small and medium-sized enterprises explore and penetrate new markets to grow and expand. Find out what more Canada's International Trade Minister is doing to renew the focus on trade promotion and economic diplomacy in the recently released Global Markets Action Plan.\n\n\n\nThe Hon. Ed Fast will speak to the following:\n\n	How to work with the Private Sector to achieve Canada's Success in International Markets\n	How to Unify and Build Canada's Business Brand in the Global Marketplace\n	Status on the Free Trade Agreement with Canada's major trading partners including Korea\, India\, Japan and the EU.
X-ALT-DESC;FMTTYPE=text/html:Surrey Board of Trade Business Luncheon<br />\n<br />\nKeynote Speaker: Federal International Trade Minister\, Ed Fast<br />\n<br />\n<b>Topic: Moving Forward - Successful Local Business is Canada&#39\;s Trade Success</b><br />\nThe Government of Canada has many tools available to support Canadian companies\, especially small and medium-sized enterprises explore and penetrate new markets to grow and expand. Find out what more Canada&rsquo\;s International Trade Minister is doing to renew the focus on trade promotion and economic diplomacy in the recently released Global Markets Action Plan.<br />\n<br />\nThe Hon. Ed Fast will speak to the following:\n<ol>\n	<li>How to work with the Private Sector to achieve Canada&rsquo\;s Success in International Markets</li>\n	<li>How to Unify and Build Canada&rsquo\;s Business Brand in the Global Marketplace</li>\n	<li>Status on the Free Trade Agreement with Canada&rsquo\;s major trading partners including Korea\, India\, Japan and the EU.</li>\n</ol>\n
LOCATION:Sheraton Vancouver Guildford Hotel 15269 104 Avenue\, Surrey
UID:e.749.2689
SEQUENCE:3
DTSTAMP:20260425T175728Z
URL:https://business.swrbot.com/events/details/august-7-2014-lunch-with-international-trade-minister-ed-fast-08-07-2014-2689
END:VEVENT

END:VCALENDAR
