BEGIN:VCALENDAR
VERSION:2.0
PRODID:-//ChamberMaster//Event Calendar 2.0//EN
METHOD:PUBLISH
X-PUBLISHED-TTL:P3D
REFRESH-INTERVAL:P3D
CALSCALE:GREGORIAN
BEGIN:VEVENT
DTSTART:20150531T170000Z
DTEND:20150531T210000Z
X-MICROSOFT-CDO-ALLDAYEVENT:FALSE
SUMMARY:Awareness Walk For Down Syndrome
DESCRIPTION:This awareness walk is to promote awareness on Down Syndrome and to help raise funds for programs and services that the Lower Mainland Down Syndrome Society provides to individuals with Down syndrome and their families. For details on the days events check our website at www.lmdss.com
X-ALT-DESC;FMTTYPE=text/html:This awareness walk is to promote awareness on Down Syndrome and to help raise funds for programs and services that the Lower Mainland Down Syndrome Society provides to individuals with Down syndrome and their families. For details on the days events check our website at www.lmdss.com
LOCATION:Bear Creek Park 13750 -88th Ave\, Surrey
UID:e.749.2872
SEQUENCE:3
DTSTAMP:20260423T133801Z
URL:https://business.swrbot.com/events/details/awareness-walk-for-down-syndrome-05-31-2015-2872
END:VEVENT

END:VCALENDAR
