BEGIN:VCALENDAR
VERSION:2.0
PRODID:-//ChamberMaster//Event Calendar 2.0//EN
METHOD:PUBLISH
X-PUBLISHED-TTL:P3D
REFRESH-INTERVAL:P3D
CALSCALE:GREGORIAN
BEGIN:VEVENT
DTSTART:20101104T144500Z
DTEND:20101104T163000Z
X-MICROSOFT-CDO-ALLDAYEVENT:FALSE
SUMMARY:BC HRMA November Roundtable
DESCRIPTION:Improving Interpersonal Communication\n\n	 \n\n	The session will focus leaders at all levels on delivering powerful messages and one-on-one coaching to an individual or a team.  Participants will learn how powerful coaching techniques can integrate with mentoring techniques.\n\n	 \n\n	Date: Thursday\, November 4\, 2010\n\n	Time: 7:45am   9:30am\n\n	Location: 7455   130th Street\, Surrey (BC Biomedical building)\n\n	Fee:  Non-members $10.  Members free.\n\n	Link: https://ssl.bchrma.org/content/events/coi/rt_details.cfm?Meeting=SRT-017-RT
X-ALT-DESC;FMTTYPE=text/html:<div>\n	<span style="font-size:14px\;"><strong>Improving Interpersonal Communication</strong></span></div>\n<div>\n	&nbsp\;</div>\n<div>\n	The session will focus leaders at all levels on delivering powerful messages and one-on-one coaching to an individual or a team. &nbsp\;Participants will learn how powerful coaching techniques can integrate with mentoring techniques.</div>\n<div>\n	&nbsp\;</div>\n<div>\n	<strong>Date</strong>: Thursday\, November 4\, 2010</div>\n<div>\n	<strong>Time</strong>: 7:45am &ndash\; 9:30am</div>\n<div>\n	<strong>Location</strong>: 7455 &ndash\; 130th Street\, Surrey (BC Biomedical building)</div>\n<div>\n	<strong>Fee</strong>: &nbsp\;Non-members $10. &nbsp\;Members free.</div>\n<div>\n	<strong>Link</strong>: <a href="https://ssl.bchrma.org/content/events/coi/rt_details.cfm?Meeting=SRT-017-RT" target="_blank">https://ssl.bchrma.org/content/events/coi/rt_details.cfm?Meeting=SRT-017-RT</a></div>\n
LOCATION:7455 130th Street\, Surrey (BC Biomedical building)
UID:e.749.1707
SEQUENCE:3
DTSTAMP:20260422T130845Z
URL:https://business.swrbot.com/events/details/bc-hrma-november-roundtable-11-04-2010-1707
END:VEVENT

END:VCALENDAR
