BEGIN:VCALENDAR
VERSION:2.0
PRODID:-//ChamberMaster//Event Calendar 2.0//EN
METHOD:PUBLISH
X-PUBLISHED-TTL:P3D
REFRESH-INTERVAL:P3D
CALSCALE:GREGORIAN
BEGIN:VEVENT
DTSTART:20101209T013000Z
DTEND:20101209T033000Z
X-MICROSOFT-CDO-ALLDAYEVENT:FALSE
SUMMARY:BC HRMA's 5th Annual Fraser Valley Holiday Mix'n Mingle
DESCRIPTION:Enjoy a festive appetizer buffet reception while meeting and making contacts at this once-a-year social for everyone and everything 'HR'.\n\n\n\nThere will be fun\, entertainment and door prizes including\, 2 Club Seats to the Canucks vs. Columbus Blue Jackets Hockey Game\, December 15th\, 2010 7pm start *Courtesy of AMJ Campbell Van Lines* and more!\n\nExpect a great time! Meet BC HRMA CEO Simon Evans\, CHRP\, FV AC Chair Heather Johnson and your Advisory Council.\n\n\n\nCash bar available.
X-ALT-DESC;FMTTYPE=text/html:Enjoy a festive appetizer buffet reception while meeting and making contacts at this once-a-year social for everyone and everything &#39\;HR&#39\;.<br />\n<br />\nThere will be fun\, entertainment and door prizes including\, 2 Club Seats to the Canucks vs. Columbus Blue Jackets Hockey Game\, December 15th\, 2010 7pm start *Courtesy of AMJ Campbell Van Lines* and more!<br />\nExpect a great time! Meet BC HRMA CEO Simon Evans\, CHRP\, FV AC Chair Heather Johnson and your Advisory Council.<br />\n<br />\nCash bar available.<br />\n
LOCATION:Location: The Mackie Room\, Cascades Casino Hotel & Convention Centre\, 20393 Fraser Highway\, Langley\, BC V3A 7NQ
UID:e.749.1717
SEQUENCE:3
DTSTAMP:20260422T114726Z
URL:https://business.swrbot.com/events/details/bc-hrma-s-5th-annual-fraser-valley-holiday-mix-n-mingle-12-08-2010-1717
END:VEVENT

END:VCALENDAR
