BEGIN:VCALENDAR
VERSION:2.0
PRODID:-//ChamberMaster//Event Calendar 2.0//EN
METHOD:PUBLISH
X-PUBLISHED-TTL:P3D
REFRESH-INTERVAL:P3D
CALSCALE:GREGORIAN
BEGIN:VEVENT
DTSTART:20140914T020000Z
DTEND:20140914T050000Z
X-MICROSOFT-CDO-ALLDAYEVENT:FALSE
SUMMARY:BC Lions Game - Surrey Board of Trade Member's Night
DESCRIPTION:Surrey Board of Trade members will save up to 23% off their BC Lions tickets for this game and $3 from each ticket sold through this offer will go back to Ronald McDonald House British Columbia.\n\n\n\nSaturday\, September 13 versus Winnipeg\n\n\n\nTo purchase tickets\, please go to www.bclions.com/sbot and use promo code: SBOTTIX or call Steve Balletto at 604-930-5454.
X-ALT-DESC;FMTTYPE=text/html:Surrey Board of Trade members will save up to 23% off their BC Lions tickets for this game and $3 from each ticket sold through this offer will go back to Ronald McDonald House British Columbia.<br />\n<br />\n<strong>Saturday\, September 13 versus Winnipeg</strong><br />\n<br />\nTo purchase tickets\, please go to&nbsp\;www.bclions.com/sbot and use promo code:&nbsp\;<span style="color:#FF8C00\;"><strong>SBOTTIX</strong></span>&nbsp\;or call Steve Balletto at 604-930-5454.
LOCATION:BC Place
UID:e.749.2677
SEQUENCE:3
DTSTAMP:20260425T164154Z
URL:https://business.swrbot.com/events/details/bc-lions-game-surrey-board-of-trade-member-s-night-09-13-2014-2677
END:VEVENT

END:VCALENDAR
