BEGIN:VCALENDAR
VERSION:2.0
PRODID:-//ChamberMaster//Event Calendar 2.0//EN
METHOD:PUBLISH
X-PUBLISHED-TTL:P3D
REFRESH-INTERVAL:P3D
CALSCALE:GREGORIAN
BEGIN:VEVENT
DTSTART:20140501T003000Z
DTEND:20140501T023000Z
X-MICROSOFT-CDO-ALLDAYEVENT:FALSE
SUMMARY:BCBusiness 30 Under 30
DESCRIPTION:BCBusiness 30 Under 30 Event\n\n \n\nOn April 30th\, meet B.C.'s young guns who excel in their respective industries\, give back to their community\, and who will lead business in this province for years to come.\n\n \n\nWinners of our 30 Under 30 will be featured in the April 2014 issue of BCBusiness and on BCBusiness.ca\, with one exceptionally amazing young world-changer gracing that issue's cover.\n\n \n\nJoin us for a special cocktail reception in honour of these exceptional young women and men. Celebrate and network with tomorrow's leaders at the first annual BCBusiness 30 Under 30 party!\n\n \n\nApril 30\, 2014\, 5:30-7:30 PM\n\n130 West (at Loungeworks)\n\n130 West 4th Avenue\, Vancouver\n\nGet tickets and more information here! http://www.bcbusiness.ca/30under30
X-ALT-DESC;FMTTYPE=text/html:<div><b><font class="Apple-style-span" face="Helvetica" size="4">BCBusiness 30 Under 30 Event</font></b></div>\n\n<div>&nbsp\;</div>\n\n<div><font class="Apple-style-span" face="Helvetica Neue"><b><span style="color: rgb(68\, 68\, 68)\; font-size: 17px\; font-weight: normal\; line-height: 25px\; font-family: helvetica\, arial\, sans-serif\; ">On April 30th\, meet B.C.&#39\;s young guns who excel in their respective industries\, give back to their community\, and who will lead business in this province for years to come.</span></b></font></div>\n\n<div>&nbsp\;</div>\n\n<div><font class="Apple-style-span" color="#444444" face="helvetica\,arial\,sans-serif" size="4"><span style="line-height: 20px\; font-family: Helvetica\, arial\, 'Helvetica Neue'\, sans-serif\; ">Winners of our 30 Under 30 will be featured in the April 2014 issue of&nbsp\;<i>BCBusiness</i>&nbsp\;and on BCBusiness.ca\, with one exceptionally amazing young world-changer gracing that issue&rsquo\;s cover.</span></font></div>\n\n<div>&nbsp\;</div>\n\n<div><font class="Apple-style-span" color="#444444" face="helvetica\,arial\,sans-serif" size="4"><span style="line-height: 20px\; font-family: Helvetica\, arial\, 'Helvetica Neue'\, sans-serif\; ">Join us for a special cocktail reception in honour of these exceptional young women and men. Celebrate and network with tomorrow&#39\;s leaders at the first annual&nbsp\;</span><em style="font-family: Helvetica\, arial\, 'Helvetica Neue'\, sans-serif\; line-height: 20px\; ">BCBusiness</em><span style="line-height: 20px\; font-family: Helvetica\, arial\, 'Helvetica Neue'\, sans-serif\; ">&nbsp\;30 Under 30 party!</span></font></div>\n\n<div>&nbsp\;</div>\n\n<div><font class="Apple-style-span" color="#444444" face="helvetica\,arial\,sans-serif" size="4"><span style="line-height: 20px\; font-family: Helvetica\, arial\, 'Helvetica Neue'\, sans-serif\; ">April 30\, 2014\, 5:30-7:30 PM</span></font></div>\n\n<div><font class="Apple-style-span" color="#444444" face="helvetica\,arial\,sans-serif" size="4"><span style="line-height: 20px\; background-color: rgb(254\, 255\, 254)\; font-family: Helvetica\, arial\, 'Helvetica Neue'\, sans-serif\; ">130 West (at Loungeworks)</span></font></div>\n\n<div><font class="Apple-style-span" color="#444444" face="helvetica\,arial\,sans-serif" size="4"><span style="line-height: 20px\; background-color: rgb(253\, 255\, 253)\; font-family: Helvetica\, arial\, 'Helvetica Neue'\, sans-serif\; ">130 West 4th Avenue\, Vancouver</span></font></div>\n\n<div><font class="Apple-style-span" color="#444444" face="Helvetica\,arial\,Helvetica Neue\,sans-serif" size="4">Get tickets and more information here!&nbsp\;<a href="http://www.bcbusiness.ca/30under30">http://www.bcbusiness.ca/30under30</a>&nbsp\;</font>\n\n<p style="margin: 0px\; font-size: 12px\; font-family: Helvetica\; ">&nbsp\;</p>\n</div>\n
LOCATION:130 West (at Loungeworks)\, 130 West 4th Avenue\, Vancouver
UID:e.749.2616
SEQUENCE:3
DTSTAMP:20260425T235110Z
URL:https://business.swrbot.com/events/details/bcbusiness-30-under-30-04-30-2014-2616
END:VEVENT

END:VCALENDAR
