BEGIN:VCALENDAR
VERSION:2.0
PRODID:-//ChamberMaster//Event Calendar 2.0//EN
METHOD:PUBLISH
X-PUBLISHED-TTL:P3D
REFRESH-INTERVAL:P3D
CALSCALE:GREGORIAN
BEGIN:VEVENT
DTSTART:20150520T010000Z
DTEND:20150520T030000Z
X-MICROSOFT-CDO-ALLDAYEVENT:FALSE
SUMMARY:BCBusiness Presents: Wealthy & Wise
DESCRIPTION:On May 19th\, hear David Chilton and Arlene Dickinson from Dragons' Den live at The Orpheum as they share their wisdom and success stories on finding smart investments through tough economic times and transforming marketing departments into results-driven powerhouses. This is an exclusive opportunity to get inspired\, informed and poised for success by Dragons.
X-ALT-DESC;FMTTYPE=text/html:On May 19th\, hear David Chilton and Arlene Dickinson from Dragons&#39\; Den live at The Orpheum as they share their wisdom and success stories on finding smart investments through tough economic times and transforming marketing departments into results-driven powerhouses. This is an exclusive opportunity to get inspired\, informed and poised for success by Dragons.
LOCATION:The Orpheum 601 Smithe Street Vancouver\, BC V6B 3L4
UID:e.749.3344
SEQUENCE:3
DTSTAMP:20260423T132929Z
URL:https://business.swrbot.com/events/details/bcbusiness-presents-wealthy-wise-05-19-2015-3344
END:VEVENT

END:VCALENDAR
