BEGIN:VCALENDAR
VERSION:2.0
PRODID:-//ChamberMaster//Event Calendar 2.0//EN
METHOD:PUBLISH
X-PUBLISHED-TTL:P3D
REFRESH-INTERVAL:P3D
CALSCALE:GREGORIAN
BEGIN:VEVENT
DTSTART:20141007T143000Z
DTEND:20141007T180000Z
X-MICROSOFT-CDO-ALLDAYEVENT:FALSE
SUMMARY:Be Smart Managing your Energy Budget
DESCRIPTION:Be Smart Managing your Energy Budget - a Workshop with BC Hydro and Fortis BC Canadian Manufacturers and Exporters\, British Columbia\, together with BC Hydro and Fortis BC\, invite you to a morning breakfast event that will help you understand how to lower energy costs\, while improving profitability and your company?s green reputation.\n\nHIGHLIGHTS \n\n	Learn about electric and gas energy management and how to get started \n	Gain a solid understanding of utility incentives and resources that are available to you \n	Leave with tools\, strategies and ideas to implement at your facility\n	Connect with industry peers\n\nWHO SHOULD ATTEND\n\nIf you are an owner or operations/finance manager of a small-to-medium sized manufacturing firm\, located in BC\, this is a workshop you want to attend.\n\n\n\nWHEN AND WHERE:\n\nDate/time: Tuesday October 7\, 2014\, 7:30 am - 11:00 am
X-ALT-DESC;FMTTYPE=text/html:Be Smart Managing your Energy Budget - a Workshop with BC Hydro and Fortis BC Canadian Manufacturers and Exporters\, British Columbia\, together with BC Hydro and Fortis BC\, invite you to a morning breakfast event that will help you understand how to lower energy costs\, while improving profitability and your company?s green reputation.<br />\nHIGHLIGHTS&nbsp\;\n<ul>\n	<li>Learn about electric and gas energy management and how to get started&nbsp\;</li>\n	<li>Gain a solid understanding of utility incentives and resources that are available to you&nbsp\;</li>\n	<li>Leave with tools\, strategies and ideas to implement at your facility</li>\n	<li>Connect with industry peers</li>\n</ul>\nWHO SHOULD ATTEND<br />\nIf you are an owner or operations/finance manager of a small-to-medium sized manufacturing firm\, located in BC\, this is a workshop you want to attend.<br />\n<br />\nWHEN AND WHERE:<br />\nDate/time: Tuesday October 7\, 2014\, 7:30 am - 11:00 am
LOCATION:Location: BC Hydro\, Edmonds Complex\, 6911 Southpoint Drive\, Burnaby
UID:e.749.2789
SEQUENCE:3
DTSTAMP:20260425T151730Z
URL:https://business.swrbot.com/events/details/be-smart-managing-your-energy-budget-10-07-2014-2789
END:VEVENT

END:VCALENDAR
