BEGIN:VCALENDAR
VERSION:2.0
PRODID:-//ChamberMaster//Event Calendar 2.0//EN
METHOD:PUBLISH
X-PUBLISHED-TTL:P3D
REFRESH-INTERVAL:P3D
CALSCALE:GREGORIAN
BEGIN:VEVENT
DTSTART:20180316T153000Z
DTEND:20180317T230000Z
X-MICROSOFT-CDO-ALLDAYEVENT:FALSE
SUMMARY:Be the Change: Changing Attitudes | Seeking Solutions | Taking Action
DESCRIPTION:Stenberg College is hosting Be the Change\, a free conference aimed at Changing Attitudes\, Seeking Solutions\, Taking Action. Over two days\, our lineup of renowned and experienced speakers will discuss: Truth and Reconciliation\, Homelessness\, The Opioid Crisis and Resistance\, Resilience & Recovery. This conference aims to promote solutions-based dialogue and provide the tools to make a positive difference in the lives of people who struggle with mental health and addictions challenges. The time to act is now   educate and empower yourself and others. Be the change and make the world a better place. Speakers include Hon. Judy Darcy (MLA\, Minister for Mental Health)\; Dina Lambright (Aboriginal Health Lead\, Fraser Health)\; Duane Howard (Spiritual Advisor\, Cultural Healer & Actor)\; Chief Ernie Crey (Cheam First Nation)\; Judy Graves (Housing & Homelessness Advocate)\; Stefania Seccia (Journalist/Managing Editor\, Megaphone Magazine)\; David Wells (Chair of Aboriginal Homeless Steering Committee)\; Shayne Williams (Executive Director\, Lookout Housing & Health Society)\; Michelle Jansen (Founder\, Brandon Jansen Foundation)\; Darwin Fisher (Program Coordinator\, Insite\, PHS Community Services Society)\; Dr. Christy Sutherland (MD CCFP dABAM\, Medical Director\, PHS Community Services Society)\; Dr. Evan Wood (MD\, PhD\, ABIM\, FRCPC\, ABAM Diplomat\, BC Centre on Substance Abuse)\; Hon. Melanie Mark (MLA\, Minister of Advanced Education)\; Dr. Vikki Reynolds (PhD\, RCC)\; and Bif Naked (Rock Star\, Writer\, Humanitarian\, Motivational Speaker).
X-ALT-DESC;FMTTYPE=text/html:Stenberg College is hosting Be the Change\, a free conference aimed at Changing Attitudes\, Seeking Solutions\, Taking Action. Over two days\, our lineup of renowned and experienced speakers will discuss: Truth and Reconciliation\, Homelessness\, The Opioid Crisis and Resistance\, Resilience &amp\; Recovery. This conference aims to promote solutions-based dialogue and provide the tools to make a positive difference in the lives of people who struggle with mental health and addictions challenges. The time to act is now &ndash\; educate and empower yourself and others. Be the change and make the world a better place. Speakers include Hon. Judy Darcy (MLA\, Minister for Mental Health)\; Dina Lambright (Aboriginal Health Lead\, Fraser Health)\; Duane Howard (Spiritual Advisor\, Cultural Healer &amp\; Actor)\; Chief Ernie Crey (Cheam First Nation)\; Judy Graves (Housing &amp\; Homelessness Advocate)\; Stefania Seccia (Journalist/Managing Editor\, Megaphone Magazine)\; David Wells (Chair of Aboriginal Homeless Steering Committee)\; Shayne Williams (Executive Director\, Lookout Housing &amp\; Health Society)\; Michelle Jansen (Founder\, Brandon Jansen Foundation)\; Darwin Fisher (Program Coordinator\, Insite\, PHS Community Services Society)\; Dr. Christy Sutherland (MD CCFP dABAM\, Medical Director\, PHS Community Services Society)\; Dr. Evan Wood (MD\, PhD\, ABIM\, FRCPC\, ABAM Diplomat\, BC Centre on Substance Abuse)\; Hon. Melanie Mark (MLA\, Minister of Advanced Education)\; Dr. Vikki Reynolds (PhD\, RCC)\; and Bif Naked (Rock Star\, Writer\, Humanitarian\, Motivational Speaker).
LOCATION:The Anvil Centre
UID:e.749.6743
SEQUENCE:3
DTSTAMP:20260421T125746Z
URL:https://business.swrbot.com/events/details/be-the-change-changing-attitudes-seeking-solutions-taking-action-03-16-2018-6743
END:VEVENT

END:VCALENDAR
