BEGIN:VCALENDAR
VERSION:2.0
PRODID:-//ChamberMaster//Event Calendar 2.0//EN
METHOD:PUBLISH
X-PUBLISHED-TTL:P3D
REFRESH-INTERVAL:P3D
CALSCALE:GREGORIAN
BEGIN:VEVENT
DTSTART:20150501T193000Z
DTEND:20150501T233000Z
X-MICROSOFT-CDO-ALLDAYEVENT:FALSE
SUMMARY:Beta Collective 1-Year Anniversary OPEN HOUSE!
DESCRIPTION:It's hard to believe\, but our little coworking space has reached its 1-year milestone -- and you're invited to the party! Join us for an afternoon of networking\, complimentary refreshments\, and free giveaways\, while learning about the different businesses and entrepreneurs who currently call Beta home. We'll be making a special announcement regarding "Beta Collective 2.0" that's set to roll out this summer. You don't want to miss it. MLA Bruce Ralston (Surrey-Whalley) will also be on hand for some congratulatory remarks at approximately 2:30pm. For more information and to RSVP\, go to www.betaturns1.eventbrite.com. Huge shout out to Westminster Savings Credit Union for sponsoring this event!
X-ALT-DESC;FMTTYPE=text/html:It&#39\;s hard to believe\, but our little coworking space has reached its 1-year milestone -- and you&#39\;re invited to the party! Join us for an afternoon of networking\, complimentary refreshments\, and free giveaways\, while learning about the different businesses and entrepreneurs who currently call Beta home. We&#39\;ll be making a special announcement regarding &quot\;Beta Collective 2.0&quot\; that&#39\;s set to roll out this summer. You don&#39\;t want to miss it. MLA Bruce Ralston (Surrey-Whalley) will also be on hand for some congratulatory remarks at approximately 2:30pm. For more information and to RSVP\, go to www.betaturns1.eventbrite.com. Huge shout out to Westminster Savings Credit Union for sponsoring this event!
LOCATION:Beta Collective - 13637 100th Ave.\, Surrey BC\, V3T 1H9
UID:e.749.3578
SEQUENCE:3
DTSTAMP:20260423T133359Z
URL:https://business.swrbot.com/events/details/beta-collective-1-year-anniversary-open-house-05-01-2015-3578
END:VEVENT

END:VCALENDAR
