BEGIN:VCALENDAR
VERSION:2.0
PRODID:-//ChamberMaster//Event Calendar 2.0//EN
METHOD:PUBLISH
X-PUBLISHED-TTL:P3D
REFRESH-INTERVAL:P3D
CALSCALE:GREGORIAN
BEGIN:VEVENT
DTSTART;VALUE=DATE:20140215
DTEND;VALUE=DATE:20140216
TRANSP:TRANSPARENT
X-MICROSOFT-CDO-ALLDAYEVENT:TRUE
SUMMARY:Beyond Retirement: 10 Success Factors for Living with Purpose\, Meaning and Joy.
DESCRIPTION:
X-ALT-DESC;FMTTYPE=text/html:
LOCATION:Simon Fraser University - Surrey Campus
UID:e.749.2555
SEQUENCE:3
DTSTAMP:20260426T011233Z
URL:https://business.swrbot.com/events/details/beyond-retirement-10-success-factors-for-living-with-purpose-meaning-and-joy-02-15-2014-2555
END:VEVENT

END:VCALENDAR
