BEGIN:VCALENDAR
VERSION:2.0
PRODID:-//ChamberMaster//Event Calendar 2.0//EN
METHOD:PUBLISH
X-PUBLISHED-TTL:P3D
REFRESH-INTERVAL:P3D
CALSCALE:GREGORIAN
BEGIN:VEVENT
DTSTART:20190926T180000Z
DTEND:20190926T220000Z
X-MICROSOFT-CDO-ALLDAYEVENT:FALSE
SUMMARY:Black Press Extreme Education and Career Fair
DESCRIPTION:Did you know in the next 8 years there will be over 1 million job vacancies in British Columbia? Black Press Career Fair initiatives offer local businesses viable sourcing with cost efficient means\, to put them in front of thousands of candidates. In this growing market we invite you to join us September 26th\, 2019 at the Shannon Hall and Alice McKay Building within the Cloverdale Agriplex\, 6050 176th St. Surrey BC. This event will feature employers\, education institutions and service providers throughout the Lower Mainland region that are ready to help you on your career path.
X-ALT-DESC;FMTTYPE=text/html:Did you know in the next 8 years there will be over 1 million job vacancies in British Columbia? Black Press Career Fair initiatives offer local businesses viable sourcing with cost efficient means\, to put them in front of thousands of candidates. In this growing market we invite you to join us September 26th\, 2019 at the Shannon Hall and Alice McKay Building within the Cloverdale Agriplex\, 6050 176th St. Surrey BC. This event will feature employers\, education institutions and service providers throughout the Lower Mainland region that are ready to help you on your career path.
LOCATION:6050 176th ST. Surrey BC
UID:e.749.10544
SEQUENCE:3
DTSTAMP:20260420T140323Z
URL:https://business.swrbot.com/events/details/black-press-extreme-education-and-career-fair-09-26-2019-10544
END:VEVENT

END:VCALENDAR
