BEGIN:VCALENDAR
VERSION:2.0
PRODID:-//ChamberMaster//Event Calendar 2.0//EN
METHOD:PUBLISH
X-PUBLISHED-TTL:P3D
REFRESH-INTERVAL:P3D
CALSCALE:GREGORIAN
BEGIN:VEVENT
DTSTART:20101001T020000Z
DTEND:20101001T050000Z
X-MICROSOFT-CDO-ALLDAYEVENT:FALSE
SUMMARY:Blues in the S.A.C.
DESCRIPTION:Agent C and Top Secret are performing September 30\, 2010 in the Studio Theatre at the Surrey Arts Centre. Proceeds will support the Stand Up! For the arts campaign. Dress is casual.\n\n \n\nBring your dancing shoes along and help the Arts Centre get new seats for the venue. Dress is casual.
X-ALT-DESC;FMTTYPE=text/html:<span style="font-size: 11px"><span style="font-family: arial">Agent C and Top Secret are performing September 30\, 2010 in the Studio Theatre at the Surrey Arts Centre. Proceeds will support the Stand Up! For the arts campaign. Dress is casual.<br />\n&nbsp\;<br />\nBring your dancing shoes along and help the Arts Centre get new seats for the venue. Dress is casual.</span></span><br />\n
LOCATION:Surrey Arts Centre (13750 88 Avenue\, Surrey)
UID:e.749.1681
SEQUENCE:3
DTSTAMP:20260422T162312Z
URL:https://business.swrbot.com/events/details/blues-in-the-s-a-c-09-30-2010-1681
END:VEVENT

END:VCALENDAR
