BEGIN:VCALENDAR
VERSION:2.0
PRODID:-//ChamberMaster//Event Calendar 2.0//EN
METHOD:PUBLISH
X-PUBLISHED-TTL:P3D
REFRESH-INTERVAL:P3D
CALSCALE:GREGORIAN
BEGIN:VEVENT
DTSTART:20171018T000000Z
DTEND:20171030T050000Z
X-MICROSOFT-CDO-ALLDAYEVENT:FALSE
SUMMARY:Bog Escape: Howloween Ball
DESCRIPTION:The guest list has been made and you're on it! A full-moon party sounds like fun\, but are you prepared for what's actually in store? Bog Escape merges two things that we're passionate about: Escape rooms and the great outdoors. Work together to solve puzzles and complete your mission while experiencing the unique outdoor venue of Burns Bog. Family Friendly times available. Bog Escape is run by the Burns Bog Conservation Society. We created this outreach program so that you\, your family and your friends can explore Burns Bog in a new and unique way.
X-ALT-DESC;FMTTYPE=text/html:The guest list has been made and you&rsquo\;re on it! A full-moon party sounds like fun\, but are you prepared for what&rsquo\;s actually in store? Bog Escape merges two things that we&rsquo\;re passionate about: Escape rooms and the great outdoors. Work together to solve puzzles and complete your mission while experiencing the unique outdoor venue of Burns Bog. Family Friendly times available. Bog Escape is run by the Burns Bog Conservation Society. We created this outreach program so that you\, your family and your friends can explore Burns Bog in a new and unique way.
LOCATION:10388 Nordel Court
UID:e.749.5483
SEQUENCE:3
DTSTAMP:20260421T192417Z
URL:https://business.swrbot.com/events/details/bog-escape-howloween-ball-10-17-2017-5483
END:VEVENT

END:VCALENDAR
