BEGIN:VCALENDAR
VERSION:2.0
PRODID:-//ChamberMaster//Event Calendar 2.0//EN
METHOD:PUBLISH
X-PUBLISHED-TTL:P3D
REFRESH-INTERVAL:P3D
CALSCALE:GREGORIAN
BEGIN:VEVENT
DTSTART:20180313T150000Z
DTEND:20180314T230000Z
X-MICROSOFT-CDO-ALLDAYEVENT:FALSE
SUMMARY:Bottom Line 2018 – Navigating the New Workplace: We All Have a Part
DESCRIPTION:Gain the skills and inspiration to improve mental health in your workplace. Connect with others who continue to innovate in transforming Canadian workplaces into psychologically safe and supportive places where everyone can work safely and thrive. Presented by the Canadian Mental Health Association\, the annual conference provides an opportunity to share real experiences and successes from workers to senior leaders\, from a variety of sectors.
X-ALT-DESC;FMTTYPE=text/html:Gain the skills and inspiration to improve mental health in your workplace. Connect with others who continue to innovate in transforming Canadian workplaces into psychologically safe and supportive places where everyone can work safely and thrive. Presented by the Canadian Mental Health Association\, the annual conference provides an opportunity to share real experiences and successes from workers to senior leaders\, from a variety of sectors.
LOCATION:Vancouver
UID:e.749.5618
SEQUENCE:3
DTSTAMP:20260421T130053Z
URL:https://business.swrbot.com/events/details/bottom-line-2018-navigating-the-new-workplace-we-all-have-a-part-03-13-2018-5618
END:VEVENT

END:VCALENDAR
