BEGIN:VCALENDAR
VERSION:2.0
PRODID:-//ChamberMaster//Event Calendar 2.0//EN
METHOD:PUBLISH
X-PUBLISHED-TTL:P3D
REFRESH-INTERVAL:P3D
CALSCALE:GREGORIAN
BEGIN:VEVENT
DTSTART:20170406T143000Z
DTEND:20170406T160000Z
X-MICROSOFT-CDO-ALLDAYEVENT:FALSE
SUMMARY:Breakfast in the Valley - Habit & Workplace Rituals
DESCRIPTION:Avoid the morning rush as you re-connect & re-engage with your HR community during a facilitated discussion on the topic of Habit & Workplace Rituals\; starting with a common daily practice for many - breakfast - the most important meal of the day. Light breakfast fare to be provided. At this members only breakfast you will have an opportunity to meet your Advisory Council members and receive an update on what's in the works for 2017 including regularly scheduled events and opportunities to be involved. AC members will also lead a discussion and exchange of stories & learnings around ritual and practice in the workplace. Whether for reasons of Safety | Happiness & Wellbeing | Performance we'd like to know\, "What's your workplace habit\, and Why?"
X-ALT-DESC;FMTTYPE=text/html:Avoid the morning rush as you re-connect &amp\; re-engage with your HR community during a facilitated discussion on the topic of Habit &amp\; Workplace Rituals\; starting with a common daily practice for many - breakfast - the most important meal of the day. Light breakfast fare to be provided. At this members only breakfast you will have an opportunity to meet your Advisory Council members and receive an update on what&#39\;s in the works for 2017 including regularly scheduled events and opportunities to be involved. AC members will also lead a discussion and exchange of stories &amp\; learnings around ritual and practice in the workplace. Whether for reasons of Safety | Happiness &amp\; Wellbeing | Performance we&#39\;d like to know\, &quot\;What&#39\;s your workplace habit\, and Why?&quot\;
LOCATION:Signature Sandman Hotel 8828 201 St\, Langley
UID:e.749.5297
SEQUENCE:3
DTSTAMP:20260422T023926Z
URL:https://business.swrbot.com/events/details/breakfast-in-the-valley-habit-workplace-rituals-04-06-2017-5297
END:VEVENT

END:VCALENDAR
