BEGIN:VCALENDAR
VERSION:2.0
PRODID:-//ChamberMaster//Event Calendar 2.0//EN
METHOD:PUBLISH
X-PUBLISHED-TTL:P3D
REFRESH-INTERVAL:P3D
CALSCALE:GREGORIAN
BEGIN:VEVENT
DTSTART;VALUE=DATE:20180214
DTEND;VALUE=DATE:20180216
TRANSP:TRANSPARENT
X-MICROSOFT-CDO-ALLDAYEVENT:TRUE
SUMMARY:Buildex Vancouver
DESCRIPTION:BUILDEX Vancouver is Western Canada's largest tradeshow and conference for the Construction\, Renovation\, Architecture\, Interior Design and Property Management industries. With over 600 exhibits\, and more than 80 educational seminars BUILDEX attracts over 14\,000 attendees annually.
X-ALT-DESC;FMTTYPE=text/html:BUILDEX Vancouver is Western Canada&rsquo\;s largest tradeshow and conference for the Construction\, Renovation\, Architecture\, Interior Design and Property Management industries. With over 600 exhibits\, and more than 80 educational seminars BUILDEX attracts over 14\,000 attendees annually.
LOCATION:Vancouver Convention Centre West - 1055 Canada Pl\, Vancouver\, BC V6C
UID:e.749.6711
SEQUENCE:3
DTSTAMP:20260421T141145Z
URL:https://business.swrbot.com/events/details/buildex-vancouver-02-14-2018-6711
END:VEVENT

END:VCALENDAR
