BEGIN:VCALENDAR
VERSION:2.0
PRODID:-//ChamberMaster//Event Calendar 2.0//EN
METHOD:PUBLISH
X-PUBLISHED-TTL:P3D
REFRESH-INTERVAL:P3D
CALSCALE:GREGORIAN
BEGIN:VEVENT
DTSTART:20161213T203000Z
DTEND:20161214T010000Z
X-MICROSOFT-CDO-ALLDAYEVENT:FALSE
SUMMARY:Building your strategic plan for 2017 and beyond. Live Masterclass
DESCRIPTION:Are you a CEO or founder of a growing start-up that is responsible for setting the direction for your team? Are you having a hard time deciding where you should focus your energy and time? Do you need a plan to give your people so they know what they should focus their work energy? Join a small group of growing business owners for an interactive masterclass to create your strategic plan for 2017 and beyond. Seats are limited to 8 people\, and the event will be held at an exclusive downtown Vancouver location. You'll have the opportunity to create your strategic plan in an intimate setting and be guided in planning process by a strategic planning expert. You'll also receive peer feedback\, networking\, and mentorship\, as well as an opportunity to network and relax with post-workshop hosted cocktail hour. As part of the planning process you will be led through several guided exercises to help you create a clear and robust strategic plan. The master class will be from 12:00-5 pm on December 13th 2016. Optional Networking will be from 5-6:30 PM. Reserve your place today - Early Bird Pricing extended until Sunday December 4!
X-ALT-DESC;FMTTYPE=text/html:Are you a CEO or founder of a growing start-up that is responsible for setting the direction for your team? Are you having a hard time deciding where you should focus your energy and time? Do you need a plan to give your people so they know what they should focus their work energy? Join a small group of growing business owners for an interactive masterclass to create your strategic plan for 2017 and beyond. Seats are limited to 8 people\, and the event will be held at an exclusive downtown Vancouver location. You&#39\;ll have the opportunity to create your strategic plan in an intimate setting and be guided in planning process by a strategic planning expert. You&#39\;ll also receive peer feedback\, networking\, and mentorship\, as well as an opportunity to network and relax with post-workshop hosted cocktail hour. As part of the planning process you will be led through several guided exercises to help you create a clear and robust strategic plan. The master class will be from 12:00-5 pm on December 13th 2016. Optional Networking will be from 5-6:30 PM. Reserve your place today - Early Bird Pricing extended until Sunday December 4!
LOCATION:Downtown Vancouver
UID:e.749.5172
SEQUENCE:3
DTSTAMP:20260422T070912Z
URL:https://business.swrbot.com/events/details/building-your-strategic-plan-for-2017-and-beyond-live-masterclass-12-13-2016-5172
END:VEVENT

END:VCALENDAR
