BEGIN:VCALENDAR
VERSION:2.0
PRODID:-//ChamberMaster//Event Calendar 2.0//EN
METHOD:PUBLISH
X-PUBLISHED-TTL:P3D
REFRESH-INTERVAL:P3D
CALSCALE:GREGORIAN
BEGIN:VEVENT
DTSTART:20160611T180000Z
DTEND:20160612T040000Z
X-MICROSOFT-CDO-ALLDAYEVENT:FALSE
SUMMARY:Burns Bog 3rd Annual Fundraising Golf Tournament
DESCRIPTION:Swing into a fabulous day outdoors with your friends and family! Enjoy golfing\, games\, a silent auction\, dinner\, and amazing prizes! Contact bev@burnsbog.org to register.
X-ALT-DESC;FMTTYPE=text/html:Swing into a fabulous day outdoors with your friends and family! Enjoy golfing\, games\, a silent auction\, dinner\, and amazing prizes! Contact bev@burnsbog.org to register.
LOCATION:Eaglequest at Coyote Creek 7778 152 Street\, Surrey\, BC V3S 3M4
UID:e.749.4894
SEQUENCE:3
DTSTAMP:20260424T102801Z
URL:https://business.swrbot.com/events/details/burns-bog-3rd-annual-fundraising-golf-tournament-06-11-2016-4894
END:VEVENT

END:VCALENDAR
