BEGIN:VCALENDAR
VERSION:2.0
PRODID:-//ChamberMaster//Event Calendar 2.0//EN
METHOD:PUBLISH
X-PUBLISHED-TTL:P3D
REFRESH-INTERVAL:P3D
CALSCALE:GREGORIAN
BEGIN:VEVENT
DTSTART;VALUE=DATE:20150804
DTEND;VALUE=DATE:20150810
TRANSP:TRANSPARENT
X-MICROSOFT-CDO-ALLDAYEVENT:TRUE
SUMMARY:Burns Bog Annual Book Sale
DESCRIPTION:Burns Bog Conservation Society book sale offers an extensive range of fiction and non-fictions books\, as well as literature from every genre. \n\n Call 604-572-0373 or email outreach@burnsbog.org to donate your old books. Please do not donate encyclopedia's\, dictionaries or magazine.
X-ALT-DESC;FMTTYPE=text/html:<p class="MsoNormal" style="margin-bottom:0cm\;margin-bottom:.0001pt\;line-height:\n115%"><span style="font-size:12.0pt\;line-height:115%\;font-family:&quot\;Cambria&quot\;\,&quot\;serif&quot\;">Burns Bog Conservation Society book sale offers an extensive range of fiction and non-fictions books\, as well as literature from every genre. <o:p></o:p></span></p>\n\n<p class="MsoNormal" style="margin-bottom:0cm\;margin-bottom:.0001pt\;line-height:\n115%"><span style="font-size:12.0pt\;line-height:115%\;font-family:&quot\;Cambria&quot\;\,&quot\;serif&quot\;"><o:p>&nbsp\;</o:p></span><span style="font-size:12.0pt\;line-height:115%\;font-family:&quot\;Cambria&quot\;\,&quot\;serif&quot\;">Call 604-572-0373 or email </span><a href="mailto:outreach@burnsbog.org"><span style="font-size:12.0pt\;line-height:115%\;font-family:&quot\;Cambria&quot\;\,&quot\;serif&quot\;">outreach@burnsbog.org</span></a><span style="font-size:12.0pt\;line-height:115%\;font-family:&quot\;Cambria&quot\;\,&quot\;serif&quot\;"> to donate your old books. Please do not donate encyclopedia&rsquo\;s\, dictionaries or magazine.&nbsp\;</span><o:p></o:p></p>\n
LOCATION:Scottsdale Centre\, 7031 120th Street.
UID:e.749.3608
SEQUENCE:3
DTSTAMP:20260423T181304Z
URL:https://business.swrbot.com/events/details/burns-bog-annual-book-sale-08-04-2015-3608
END:VEVENT

END:VCALENDAR
