BEGIN:VCALENDAR
VERSION:2.0
PRODID:-//ChamberMaster//Event Calendar 2.0//EN
METHOD:PUBLISH
X-PUBLISHED-TTL:P3D
REFRESH-INTERVAL:P3D
CALSCALE:GREGORIAN
BEGIN:VEVENT
DTSTART;VALUE=DATE:20140812
DTEND;VALUE=DATE:20140818
TRANSP:TRANSPARENT
X-MICROSOFT-CDO-ALLDAYEVENT:TRUE
SUMMARY:Burns Bog Conservation Society Booksale
DESCRIPTION:Need more books for your summer reading list?  Looking for some amazing deals?  Then come to Burns Bog Conservation Society's annual booksale!  The Society will be selling used books at scottsdale Mall from August 12-17 near the Liquor Store and Save-On-Foods during mall hours.  All proceeds will be going towards the Society's efforts to protect Burns Bog.  Our selection will span many genres\, so come and uncover a suspenseful mystery or fall for a romance novel.  Come out and find hidden treasures for your own collection of books!
X-ALT-DESC;FMTTYPE=text/html:Need more books for your summer reading list? &nbsp\;Looking for some amazing deals? &nbsp\;Then come to Burns Bog Conservation Society&#39\;s annual booksale! &nbsp\;The Society will be selling used books at scottsdale Mall from August 12-17 near the Liquor Store and Save-On-Foods during mall hours. &nbsp\;All proceeds will be going towards the Society&#39\;s efforts to protect Burns Bog. &nbsp\;Our selection will span many genres\, so come and uncover a suspenseful mystery or fall for a romance novel. &nbsp\;Come out and find hidden treasures for your own collection of books! &nbsp\;&nbsp\;
LOCATION:7031 120 St\, Delta\, BC V4E 2A9
UID:e.749.2701
SEQUENCE:3
DTSTAMP:20260425T175610Z
URL:https://business.swrbot.com/events/details/burns-bog-conservation-society-booksale-08-12-2014-2701
END:VEVENT

END:VCALENDAR
