BEGIN:VCALENDAR
VERSION:2.0
PRODID:-//ChamberMaster//Event Calendar 2.0//EN
METHOD:PUBLISH
X-PUBLISHED-TTL:P3D
REFRESH-INTERVAL:P3D
CALSCALE:GREGORIAN
BEGIN:VEVENT
DTSTART:20140621T180000Z
DTEND:20140622T040000Z
X-MICROSOFT-CDO-ALLDAYEVENT:FALSE
SUMMARY:Burns Bog Conservation Society & Burns Bog Conservation Foundation
DESCRIPTION:We are hosting our First |Annual Fundraising Golf Tournament\, Building for the Future to raise monies for our educational/intrepretive centre.\n\nSponsorships available\, Silent Auction\, door prizes\, Long drives\, KP's and much more.\n\nCall Bev 604 572 0373\, or bev@burnsbog.org for more details
X-ALT-DESC;FMTTYPE=text/html:We are hosting our First |Annual Fundraising Golf Tournament\, Building for the Future to raise monies for our educational/intrepretive centre.<br />\nSponsorships available\, Silent Auction\, door prizes\, Long drives\, KP&#39\;s and much more.<br />\nCall Bev 604 572 0373\, or bev@burnsbog.org for more details<br />\n<br />\n
LOCATION:Eaglequest at Coyote Creek\, 7778 152nd Street Surrey\, BC
UID:e.749.2574
SEQUENCE:3
DTSTAMP:20260425T201413Z
URL:https://business.swrbot.com/events/details/burns-bog-conservation-society-burns-bog-conservation-foundation-06-21-2014-2574
END:VEVENT

END:VCALENDAR
