BEGIN:VCALENDAR
VERSION:2.0
PRODID:-//ChamberMaster//Event Calendar 2.0//EN
METHOD:PUBLISH
X-PUBLISHED-TTL:P3D
REFRESH-INTERVAL:P3D
CALSCALE:GREGORIAN
BEGIN:VEVENT
DTSTART:20140628T170000Z
DTEND:20140628T220000Z
X-MICROSOFT-CDO-ALLDAYEVENT:FALSE
SUMMARY:Burns Bog Conservation Society Garage Sale
DESCRIPTION:Find hidden household gems at the annual Burns Bog Conservation Society Garage Sale! The sale will be held on Saturday\, June 28th from 10am-3pm outside the Burns Bog Conservation Society office (behind the Greek Village restaurant) at 4-7953 120th street\, in Delta. All profits go towards the Society's efforts to protect the bog\, maintain the Delta Nature Reserve Boardwalk\, and educate the public about the ecological importance of the "lungs of the Lower Mainland".\n\n Furniture\, art\, and official Burns Bog Conservation Society Merchandise will all be on sale\, along with many more knick knacks and treasures. Come early though\, while supplies last!\n\nIf you have any items that you would like to donate\, please contact Fraser at 604-572-0373 or outreach@burnsbog.org. Items that are in good working condition only please! Only working flat screen TVs accepted- NO box TVs.
X-ALT-DESC;FMTTYPE=text/html:<p class="MsoNormal">Find hidden household gems at the annual Burns Bog Conservation Society Garage Sale! The sale will be held on <b>Saturday\, June 28<sup>th</sup><sup> </sup>from 10am-3pm</b> outside the Burns Bog Conservation Society office (behind the Greek Village restaurant) at <b>4-7953 120<sup>th</sup> street\, in Delta.</b> All profits go towards the Society&rsquo\;s efforts to protect the bog\, maintain the Delta Nature Reserve Boardwalk\, and educate the public about the ecological importance of the &ldquo\;lungs of the Lower Mainland&rdquo\;.</p>\n\n<p class="MsoNormal">&nbsp\;Furniture\, art\, and official Burns Bog Conservation Society Merchandise will all be on sale\, along with many more knick knacks and treasures. Come early though\, while supplies last!</p>\n\n<p class="MsoNormal">If you have any items that you would like to donate\, please contact Fraser at 604-572-0373 or <a href="mailto:outreach@burnsbog.org">outreach@burnsbog.org</a>. Items that are in good working condition only please! Only working flat screen TVs accepted- NO box TVs.&nbsp\;</p>\n
LOCATION:4-7953 120th street (outside the Burns Bog Conservation Society office\, behind the Greek Village restaurant)
UID:e.749.2659
SEQUENCE:3
DTSTAMP:20260425T201509Z
URL:https://business.swrbot.com/events/details/burns-bog-conservation-society-garage-sale-06-28-2014-2659
END:VEVENT

END:VCALENDAR
