BEGIN:VCALENDAR
VERSION:2.0
PRODID:-//ChamberMaster//Event Calendar 2.0//EN
METHOD:PUBLISH
X-PUBLISHED-TTL:P3D
REFRESH-INTERVAL:P3D
CALSCALE:GREGORIAN
BEGIN:VEVENT
DTSTART;VALUE=DATE:20140927
DTEND;VALUE=DATE:20140928
TRANSP:TRANSPARENT
X-MICROSOFT-CDO-ALLDAYEVENT:TRUE
SUMMARY:Burns Bog Conservation Society Garage Sale
DESCRIPTION:Find hidden household gems at the annual Burns Bog Conservation Society Garage Sale!  The sale will be held Saturday\, September 27th\, 2014 from 10am-3pm outside the Burns Bog Conservation Society office (behind the Greek Village Restaurant) at 4-7953 120th Street in Delta.  All profits go towards the Society's efforts to protect the bog\, maintain the Delta Nature Reserve boardwalk\, and educate the public about the economic importance of "the lungs of the Lower Mainland."  \n\n\n\nArt\, knick knacks\, and official Burns Bog Conservation Society merchandise will all be on sale\, along with many more treasures.  Come early though\, while supplies last!\n\n\n\nIf you have any items that you would like to donate\, please call 604-572-0373.  Items that are in good working condition only please!  Only working flat screen TVs accepted- NO box TVs.
X-ALT-DESC;FMTTYPE=text/html:Find hidden household gems at the annual Burns Bog Conservation Society Garage Sale! &nbsp\;The sale will be held Saturday\, September 27th\, 2014 from 10am-3pm outside the Burns Bog Conservation Society office (behind the Greek Village Restaurant) at 4-7953 120th Street in Delta. &nbsp\;All profits go towards the Society&#39\;s efforts to protect the bog\, maintain the Delta Nature Reserve boardwalk\, and educate the public about the economic importance of &quot\;the lungs of the Lower Mainland.&quot\; &nbsp\;<br />\n<br />\nArt\, knick knacks\, and official Burns Bog Conservation Society merchandise will all be on sale\, along with many more treasures. &nbsp\;Come early though\, while supplies last!<br />\n<br />\nIf you have any items that you would like to donate\, please call 604-572-0373. &nbsp\;Items that are in good working condition only please! &nbsp\;Only working flat screen TVs accepted- NO box TVs. &nbsp\;
LOCATION:4-7953 120th Street
UID:e.749.2737
SEQUENCE:3
DTSTAMP:20260425T164756Z
URL:https://business.swrbot.com/events/details/burns-bog-conservation-society-garage-sale-09-27-2014-2737
END:VEVENT

END:VCALENDAR
