BEGIN:VCALENDAR
VERSION:2.0
PRODID:-//ChamberMaster//Event Calendar 2.0//EN
METHOD:PUBLISH
X-PUBLISHED-TTL:P3D
REFRESH-INTERVAL:P3D
CALSCALE:GREGORIAN
BEGIN:VEVENT
DTSTART:20141101T163000Z
DTEND:20141101T220000Z
X-MICROSOFT-CDO-ALLDAYEVENT:FALSE
SUMMARY:Burns Bog Conservation Society Halloween Spookfest
DESCRIPTION:Extend your Halloween an extra day on November\, 1st. The Burns Bog Conservation Society is hosting its first annual Halloween Spookfest in the Delta Nature Reserve. Planet Ice is a great supporter of the Burns Bog Conservation Society events. Make sure to use the path at the back of their parking lot to access the Delta Nature Reserve.\n\nChildren of all ages are welcome to celebrate Halloween by taking part in a range of spooky activities including Slime Making\, a Scavenger Hunt\, Face Painting\, a Mad Scientist Lab\, Ghoulish Touch Stations\, Halloween Arts and Crafts and much more. Wear your costume to the event for a chance to win a PRIZE. The price is $5 per child and all donations go towards maintaining the Delta Nature Reserve.\n\nThe Burns Bog Conservation Society is looking for volunteers and donations to help them make this an event to remember. If you have any Halloween decorations or would like to donate or volunteer\, please check the Burns Bog Conservation Society website.
X-ALT-DESC;FMTTYPE=text/html:<p>Extend your Halloween an extra day on November\, 1st. The Burns Bog Conservation Society is hosting its first annual Halloween Spookfest in the Delta Nature Reserve. Planet Ice is a great supporter of the Burns Bog Conservation Society events. Make sure to use the path at the back of their parking lot to access the Delta Nature Reserve.</p>\n\n<p>Children of all ages are welcome to celebrate Halloween by taking part in a range of spooky activities including Slime Making\, a Scavenger Hunt\, Face Painting\, a Mad Scientist Lab\, Ghoulish Touch Stations\, Halloween Arts and Crafts and much more. Wear your costume to the event for a chance to win a PRIZE. The price is $5 per child and all donations go towards maintaining the Delta Nature Reserve.</p>\n\n<p>The Burns Bog Conservation Society is looking for volunteers and donations to help them make this an event to remember. If you have any Halloween decorations or would like to donate or volunteer\, please check the Burns Bog Conservation Society website.</p>\n
LOCATION:The Delta Nature Reserve 10388 Nordel Crt Delta \, BC V4G 1J7
UID:e.749.2817
SEQUENCE:3
DTSTAMP:20260425T140346Z
URL:https://business.swrbot.com/events/details/burns-bog-conservation-society-halloween-spookfest-11-01-2014-2817
END:VEVENT

END:VCALENDAR
