BEGIN:VCALENDAR
VERSION:2.0
PRODID:-//ChamberMaster//Event Calendar 2.0//EN
METHOD:PUBLISH
X-PUBLISHED-TTL:P3D
REFRESH-INTERVAL:P3D
CALSCALE:GREGORIAN
BEGIN:VEVENT
DTSTART:20170527T160000Z
DTEND:20170527T223000Z
X-MICROSOFT-CDO-ALLDAYEVENT:FALSE
SUMMARY:Burns Bog Garage Sale!
DESCRIPTION:Bring in something old. Bring back something new! Recycle your trash into treasure and help save Burns Bog at the same time! Art\, knick knacks\, and official Burns Bog Conservation Society merchandise will all be on sale\, along with many more hidden treasures. Come early while supplies last! All profits go to supporting our education programs. If you'd like to donate items\, please contact us at 604-572-0373 or email at info@burnsbog.org. (Sorry--no electronics or furniture!)
X-ALT-DESC;FMTTYPE=text/html:Bring in something old. Bring back something new! Recycle your trash into treasure and help save Burns Bog at the same time! Art\, knick knacks\, and official Burns Bog Conservation Society merchandise will all be on sale\, along with many more hidden treasures. Come early while supplies last! All profits go to supporting our education programs. If you&#39\;d like to donate items\, please contact us at 604-572-0373 or email at info@burnsbog.org. (Sorry--no electronics or furniture!)
LOCATION:Burns Bog Conservation Society Office
UID:e.749.5345
SEQUENCE:3
DTSTAMP:20260422T012026Z
URL:https://business.swrbot.com/events/details/burns-bog-garage-sale-05-27-2017-5345
END:VEVENT

END:VCALENDAR
