BEGIN:VCALENDAR
VERSION:2.0
PRODID:-//ChamberMaster//Event Calendar 2.0//EN
METHOD:PUBLISH
X-PUBLISHED-TTL:P3D
REFRESH-INTERVAL:P3D
CALSCALE:GREGORIAN
BEGIN:VEVENT
DTSTART:20150720T160000Z
DTEND:20150720T160000Z
X-MICROSOFT-CDO-ALLDAYEVENT:FALSE
SUMMARY:Burns Bog Summer Day Camps
DESCRIPTION:We at the Burns Bog Conservation Society believe it is important to connect kids with their natural environment. There is increasing evidence showing interactions with nature is important for physical\, emotional\, and social benefits.\n\n\n\nWith technology on the rise in the lives of youths\, their physical contact and intimacy with nature is fading. Burns Bog Summer Day camps are completely outdoors and allow students to explore the many ecosystems of the Delta Nature Reserve.\n\n\n\nCamps run weekly from July 2 to August 28\, from 9AM to 3PM at the Delta Nature Reserve. \n\n\n\nTo register or find out more\, check out burnsbog.org.
X-ALT-DESC;FMTTYPE=text/html:<p class="MsoNormal"><span style="font-family: Georgia\, serif\; color: rgb(48\, 48\, 48)\; letter-spacing: 0.15pt\; background-image: initial\; background-attachment: initial\; background-size: initial\; background-origin: initial\; background-clip: initial\; background-position: initial\; background-repeat: initial\;">We at the Burns Bog Conservation Society believe it is important to connect kids with their natural environment. There is increasing evidence showing interactions with nature is important for physical\, emotional\, and social benefits.</span><br style="box-sizing: border-box\;" />\n<br style="box-sizing: border-box\;" />\n<span style="font-family:\n&quot\;Georgia&quot\;\,&quot\;serif&quot\;\;color:#303030\;letter-spacing:.15pt"><span style="background-image: initial\; background-attachment: initial\; background-size: initial\; background-origin: initial\; background-clip: initial\; background-position: initial\; background-repeat: initial\;">With technology on the rise in the lives of youths\, their physical contact and intimacy with nature is fading. Burns Bog Summer Day camps are completely outdoors and allow students to explore the many ecosystems of the Delta Nature Reserve.</span><br style="box-sizing: border-box\;" />\n<br style="box-sizing: border-box\;" />\n<span style="background-image: initial\; background-attachment: initial\; background-size: initial\; background-origin: initial\; background-clip: initial\; background-position: initial\; background-repeat: initial\;">Camps run weekly from July 2 to August 28\, from 9AM to 3PM at the Delta Nature Reserve.<span class="apple-converted-space">&nbsp\;</span></span><br style="box-sizing: border-box\;" />\n<br style="box-sizing: border-box\;" />\n<span style="background-image: initial\; background-attachment: initial\; background-size: initial\; background-origin: initial\; background-clip: initial\; background-position: initial\; background-repeat: initial\;">To register or find out more\, check out burnsbog.org.<b><u><o:p></o:p></u></b></span></span></p>\n
LOCATION:Delta Nature Reserve (Drop off and Pick up at Planet Ice Delta - 10388 Nordel Court\, Delta\, BC)
UID:e.749.3586
SEQUENCE:3
DTSTAMP:20260423T161535Z
URL:https://business.swrbot.com/events/details/burns-bog-summer-day-camps-07-20-2015-3586
END:VEVENT

END:VCALENDAR
