BEGIN:VCALENDAR
VERSION:2.0
PRODID:-//ChamberMaster//Event Calendar 2.0//EN
METHOD:PUBLISH
X-PUBLISHED-TTL:P3D
REFRESH-INTERVAL:P3D
CALSCALE:GREGORIAN
BEGIN:VEVENT
DTSTART:20150814T010000Z
DTEND:20150814T043000Z
X-MICROSOFT-CDO-ALLDAYEVENT:FALSE
SUMMARY:Burns Bog Wine and Beer Tasting
DESCRIPTION:SOLD OUT!
X-ALT-DESC;FMTTYPE=text/html:SOLD OUT!
LOCATION:
UID:e.749.3642
SEQUENCE:3
DTSTAMP:20260423T182105Z
URL:https://business.swrbot.com/events/details/burns-bog-wine-and-beer-tasting-08-13-2015-3642
END:VEVENT

END:VCALENDAR
