BEGIN:VCALENDAR
VERSION:2.0
PRODID:-//ChamberMaster//Event Calendar 2.0//EN
METHOD:PUBLISH
X-PUBLISHED-TTL:P3D
REFRESH-INTERVAL:P3D
CALSCALE:GREGORIAN
BEGIN:VEVENT
DTSTART:20150814T010000Z
DTEND:20150814T030000Z
X-MICROSOFT-CDO-ALLDAYEVENT:FALSE
SUMMARY:Burns Bog Wine and Beer Tasting Night
DESCRIPTION:Sample a selection of local wines and craft beers. One20 Public House is providing a range of hors d'oeurves\, and you can party the night away listening to a medley of blues and R&B classics from local band Lesismore. \n\n\n\nSOLD OUT
X-ALT-DESC;FMTTYPE=text/html:<span style="font-size:12.0pt\;line-height:107%\;\nfont-family:&quot\;Cambria&quot\;\,&quot\;serif&quot\;\;mso-fareast-font-family:Calibri\;mso-fareast-theme-font:\nminor-latin\;mso-bidi-font-family:&quot\;Times New Roman&quot\;\;mso-bidi-theme-font:minor-bidi\;\nmso-ansi-language:EN-CA\;mso-fareast-language:EN-US\;mso-bidi-language:AR-SA">Sample a selection of local wines and craft beers. One20 Public House is providing a range of hors d&rsquo\;oeurves\, and you can party the night away listening to a medley of blues and R&amp\;B classics from local band <i>Lesismore</i>.&nbsp\;<br />\n<br />\n<span style="color:#FF0000\;"><span style="font-size: 24px\;">SOLD OUT</span></span></span>
LOCATION:One20 Public House\, #120 - 8037 120th St\, Delta\, BC\, V4C 6P7
UID:e.749.3606
SEQUENCE:3
DTSTAMP:20260423T182148Z
URL:https://business.swrbot.com/events/details/burns-bog-wine-and-beer-tasting-night-08-13-2015-3606
END:VEVENT

END:VCALENDAR
