BEGIN:VCALENDAR
VERSION:2.0
PRODID:-//ChamberMaster//Event Calendar 2.0//EN
METHOD:PUBLISH
X-PUBLISHED-TTL:P3D
REFRESH-INTERVAL:P3D
CALSCALE:GREGORIAN
BEGIN:VEVENT
DTSTART:20141022T143000Z
DTEND:20141022T183000Z
X-MICROSOFT-CDO-ALLDAYEVENT:FALSE
SUMMARY:BUSINESS DEVELOPMENT IN THE DIGITAL AGE
DESCRIPTION:BUSINESS DEVELOPMENT IN THE DIGITAL AGE\n\n\n\nGain the knowledge and confidence to plan for improving your business development effectiveness.  It's never been easy!  Business development has always meant refining customer value\, persistently targeting "best" distribution and/or consumer prospects\, monitoring local competitors\, producing print collaterals that satisfied the demands of your sales reps and many more tactics. Now business development requires maintenance of multiple web sites and social media campaigns\, optimizing search engine results\, repeated email marketing\, rapid response to negative customer feedback\, ongoing awareness of global competition\, satisfying more knowledgeable and demanding buyers' and a growing list of other tactics that constitute the new rules of engagement. In response\, your staff has identified seemingly endless\, expensive and sometimes conflicting investments just to keep up if not excel in the new digital reality. Join two renowned BDC industry experts for a 90 minute seminar to discover how Canadian manufacturers are responding to the onslaught. Leave the room with a checklist of practical and cost-effective actions that integrates your business development with the digital world.\n\n\n\nFor example\, learn how to: \n\n	Maintain competitive insight \n	Align digital and print collateral production \n	Prioritize investment in your digital presence \n	Better prepare for tradeshows and industry events \n	Build credibility and industry leadership
X-ALT-DESC;FMTTYPE=text/html:BUSINESS DEVELOPMENT IN THE DIGITAL AGE<br />\n<br />\nGain the knowledge and confidence to plan for improving your business development effectiveness.&nbsp\; It&#39\;s never been easy!&nbsp\; Business development has always meant refining customer value\, persistently targeting &quot\;best&quot\; distribution and/or consumer prospects\, monitoring local competitors\, producing print collaterals that satisfied the demands of your sales reps and many more tactics. Now business development requires maintenance of multiple web sites and social media campaigns\, optimizing search engine results\, repeated email marketing\, rapid response to negative customer feedback\, ongoing awareness of global competition\, satisfying more knowledgeable and demanding buyers&#39\; and a growing list of other tactics that constitute the new rules of engagement. In response\, your staff has identified seemingly endless\, expensive and sometimes conflicting investments just to keep up if not excel in the new digital reality. Join two renowned BDC industry experts for a 90 minute seminar to discover how Canadian manufacturers are responding to the onslaught. Leave the room with a checklist of practical and cost-effective actions that integrates your business development with the digital world.<br />\n<br />\nFor example\, learn how to:&nbsp\;\n<ul>\n	<li>Maintain competitive insight&nbsp\;</li>\n	<li>Align digital and print collateral production&nbsp\;</li>\n	<li>Prioritize investment in your digital presence&nbsp\;</li>\n	<li>Better prepare for tradeshows and industry events&nbsp\;</li>\n	<li>Build credibility and industry leadership</li>\n</ul>\n
LOCATION:Delta Burnaby Hotel & Conference Centre - 4331 Dominion Street\, Burnaby.
UID:e.749.2794
SEQUENCE:3
DTSTAMP:20260425T151638Z
URL:https://business.swrbot.com/events/details/business-development-in-the-digital-age-10-22-2014-2794
END:VEVENT

END:VCALENDAR
