BEGIN:VCALENDAR
VERSION:2.0
PRODID:-//ChamberMaster//Event Calendar 2.0//EN
METHOD:PUBLISH
X-PUBLISHED-TTL:P3D
REFRESH-INTERVAL:P3D
CALSCALE:GREGORIAN
BEGIN:VEVENT
DTSTART:20200226T013000Z
DTEND:20200226T033000Z
X-MICROSOFT-CDO-ALLDAYEVENT:FALSE
SUMMARY:Business Mixer with Glarea Elevated Learning
DESCRIPTION:Join us for a special evening of education\, networking\, drinks\, food and door prizes. \n\n \n\nLearn about a new and innovative school opening in South Surrey. Glarea Elevated Learning has re-imagined the modern school system by utilizing Challenge Based Learning within an all-inclusive arts and sport environment focused on connection and development. Come see how Glarea will utilize modern technology\, techniques and equipment and meet the team empowering students to identify and pursue their own unique purpose. \n\n \n\nYou don't want to miss this!
X-ALT-DESC;FMTTYPE=text/html:Join us for a special evening of education\, networking\, drinks\, food and door prizes.&nbsp\;<br />\n&nbsp\;<br />\nLearn about a new and innovative school opening in South Surrey. Glarea Elevated Learning has re-imagined the modern school system by utilizing Challenge Based Learning within an all-inclusive arts and sport environment focused on connection and development. Come see how Glarea will utilize modern technology\, techniques and equipment and meet the team empowering students to identify and pursue their own unique purpose.&nbsp\;<br />\n&nbsp\;<br />\nYou don&rsquo\;t want to miss this!
LOCATION:Glarea Elevated Learning Inside the Excellent Ice complex 15000 54A Ave (west of 152nd St.) Surrey\, BC
UID:e.749.14002
SEQUENCE:3
DTSTAMP:20260420T065958Z
URL:https://business.swrbot.com/events/details/business-mixer-with-glarea-elevated-learning-02-25-2020-14002
END:VEVENT

END:VCALENDAR
