BEGIN:VCALENDAR
VERSION:2.0
PRODID:-//ChamberMaster//Event Calendar 2.0//EN
METHOD:PUBLISH
X-PUBLISHED-TTL:P3D
REFRESH-INTERVAL:P3D
CALSCALE:GREGORIAN
BEGIN:VEVENT
DTSTART:20141030T230000Z
DTEND:20141031T030000Z
X-MICROSOFT-CDO-ALLDAYEVENT:FALSE
SUMMARY:Canadian National Manufacturing Month Job Fair &Closing Networking Reception
DESCRIPTION:Join CME BC and our growing family of partners as we celebrate the close of Canadian National Manufacturing Month.\n\n4:00 - 6:00 pm Job Fair\n\n6:00 - 8:00 pm Cocktail reception and networking
X-ALT-DESC;FMTTYPE=text/html:Join CME BC and our growing family of partners as we celebrate the close of Canadian National Manufacturing Month.<br />\n4:00 - 6:00 pm Job Fair<br />\n6:00 - 8:00 pm Cocktail reception and networking
LOCATION:Sheraton Guildford Hotel\, 15269 104th Avenue\, Surrey
UID:e.749.2798
SEQUENCE:3
DTSTAMP:20260425T163002Z
URL:https://business.swrbot.com/events/details/canadian-national-manufacturing-month-job-fair-closing-networking-reception-10-30-2014-2798
END:VEVENT

END:VCALENDAR
