BEGIN:VCALENDAR
VERSION:2.0
PRODID:-//ChamberMaster//Event Calendar 2.0//EN
METHOD:PUBLISH
X-PUBLISHED-TTL:P3D
REFRESH-INTERVAL:P3D
CALSCALE:GREGORIAN
BEGIN:VEVENT
DTSTART:20161008T000000Z
DTEND:20161011T000000Z
X-MICROSOFT-CDO-ALLDAYEVENT:FALSE
SUMMARY:Canadian Thanksgiving at Semiahmoo Resort
DESCRIPTION:Three Course Canadian Thanksgiving Menu from Pierside Kitchen: First Course First Course ~ Spiced Pumpkin Soup Toasted Hazelnuts\, Horseradish Chive Cream Second Course ~ Herb Roasted All Natural Turkey Sweet Potato Pur e\, Winter Chanterelle Mushrooms\, Traditional Stuffing Roasted Brussel Sprouts\, Sage Gravy Third Course ~ Pecan Pie or Apple Pie "a la Mode" Mignardises
X-ALT-DESC;FMTTYPE=text/html:Three Course Canadian Thanksgiving Menu from Pierside Kitchen: First Course First Course ~ Spiced Pumpkin Soup Toasted Hazelnuts\, Horseradish Chive Cream Second Course ~ Herb Roasted All Natural Turkey Sweet Potato Pur&eacute\;e\, Winter Chanterelle Mushrooms\, Traditional Stuffing Roasted Brussel Sprouts\, Sage Gravy Third Course ~ Pecan Pie or Apple Pie &ldquo\;a la Mode&rdquo\; Mignardises
LOCATION:9565 Semiahmoo Parkway Blaine\, Washington
UID:e.749.5131
SEQUENCE:3
DTSTAMP:20260424T083213Z
URL:https://business.swrbot.com/events/details/canadian-thanksgiving-at-semiahmoo-resort-10-07-2016-5131
END:VEVENT

END:VCALENDAR
