BEGIN:VCALENDAR
VERSION:2.0
PRODID:-//ChamberMaster//Event Calendar 2.0//EN
METHOD:PUBLISH
X-PUBLISHED-TTL:P3D
REFRESH-INTERVAL:P3D
CALSCALE:GREGORIAN
BEGIN:VEVENT
DTSTART:20160518T010000Z
DTEND:20160518T030000Z
X-MICROSOFT-CDO-ALLDAYEVENT:FALSE
SUMMARY:Canadian Welding Association Event
DESCRIPTION:On Tuesday\, May 17 at 6:00 PM the Vancouver Canadian Welding Association Chapter will be hosting a technical and educational seminar on Update 7 of CSA W47.1 (Certification of companies for fusion welding of steel). Presented by the CWB Vice President of Public Safety\, Craig Martin\, please join us for an over view of the changes\, the intent\, and impact to industry.
X-ALT-DESC;FMTTYPE=text/html:On Tuesday\, May 17 at 6:00 PM the Vancouver Canadian Welding Association Chapter will be hosting a technical and educational seminar on Update 7 of CSA W47.1 (Certification of companies for fusion welding of steel). Presented by the CWB Vice President of Public Safety\, Craig Martin\, please join us for an over view of the changes\, the intent\, and impact to industry.
LOCATION:SKC Engineering (Applus RTD) - 19165 94th Avenue \, Surrey \, BC V4N 3S4
UID:e.749.4941
SEQUENCE:3
DTSTAMP:20260424T081321Z
URL:https://business.swrbot.com/events/details/canadian-welding-association-event-05-17-2016-4941
END:VEVENT

END:VCALENDAR
