BEGIN:VCALENDAR
VERSION:2.0
PRODID:-//ChamberMaster//Event Calendar 2.0//EN
METHOD:PUBLISH
X-PUBLISHED-TTL:P3D
REFRESH-INTERVAL:P3D
CALSCALE:GREGORIAN
BEGIN:VEVENT
DTSTART:20151007T210000Z
DTEND:20151007T230000Z
X-MICROSOFT-CDO-ALLDAYEVENT:FALSE
SUMMARY:CANCELLED: October 7\, 2015 - International Trade Networking Event Pakistan Delegation
DESCRIPTION:I am pleased to inform you that a trade delegation from Pakistan will be hosted by the Surrey Board of Trade and the Pakistan consulate on October 7\, 2015 from 2-4pm I invite you to attend. The delegation is interested in meeting businesses such as importer's\, distributor's and manufacturer's within their industry. The companies\, that will be visiting are listed below within their industry sectors. There is no cost to attend\, coffee and refreshments will be served. This is part of the Surrey Board of Trade's International Trade Services - bringing global business opportunities for our local businesses\, and more specifically for our members. \n\n\n\n\n\nCompany Name & Industry Sector:\n\nCosmopolitan - Leather Goods and Gloves\n\nFive B Sporting - Sporting Goods\n\nAcme Surgical Industry Pvt Ltd - Surgical Equipment
X-ALT-DESC;FMTTYPE=text/html:<span style="font-size:10.0pt\;font-family:&quot\;inherit&quot\;\,&quot\;serif&quot\;\;color:black"><code><span style="font-family:&quot\;inherit&quot\;\,&quot\;serif&quot\;">I am pleased to inform you that a trade delegation from Pakistan will be hosted by the Surrey Board of Trade and the Pakistan consulate on <span class="aBn" data-term="goog_694822731" tabindex="0"><span class="aQJ">October 7\, 2015 from </span></span><span class="aBn" data-term="goog_694822731" tabindex="0"><span class="aQJ">2</span></span>-4pm I invite you to attend. The delegation is interested in meeting businesses such as importer&#39\;s\, distributor&#39\;s and manufacturer&#39\;s within their industry. The companies\, that will be visiting are listed below within their industry sectors. There is no cost to attend\, coffee and refreshments will be served. This is part of the Surrey Board of Trade&#39\;s International Trade Services - bringing global business opportunities for our local businesses\, and more specifically for our members. </span></code></span><br />\n<br />\n<br />\n<span style="font-size:10.0pt\;font-family:&quot\;inherit&quot\;\,&quot\;serif&quot\;"><strong><span style="font-family:&quot\;inherit&quot\;\,&quot\;serif&quot\;\;color:black">Company Name &amp\; Industry Sector</span></strong><code><span style="font-family:&quot\;inherit&quot\;\,&quot\;serif&quot\;">:</span></code><br />\n<code><span style="font-family:&quot\;inherit&quot\;\,&quot\;serif&quot\;\;color:black">Cosmopolitan - Leather Goods and Gloves</span></code><br />\n<code><span style="font-family:&quot\;inherit&quot\;\,&quot\;serif&quot\;">Five B Sporting - Sporting Goods</span></code><br />\n<code><span style="font-family:&quot\;inherit&quot\;\,&quot\;serif&quot\;\;color:black">Acme Surgical Industry Pvt Ltd - Surgical Equipment </span></code></span>
LOCATION:SBOT Conference Room (#101\, 14439 - 104 Avenue).
UID:e.749.3669
SEQUENCE:3
DTSTAMP:20260423T213228Z
URL:https://business.swrbot.com/events/details/cancelled-october-7-2015-international-trade-networking-event-pakistan-delegation-10-07-2015-3669
END:VEVENT

END:VCALENDAR
