BEGIN:VCALENDAR
VERSION:2.0
PRODID:-//ChamberMaster//Event Calendar 2.0//EN
METHOD:PUBLISH
X-PUBLISHED-TTL:P3D
REFRESH-INTERVAL:P3D
CALSCALE:GREGORIAN
BEGIN:VEVENT
DTSTART:20190206T013000Z
DTEND:20190208T033000Z
X-MICROSOFT-CDO-ALLDAYEVENT:FALSE
SUMMARY:Cargo Logistics Canada Expo + Conference 2019
DESCRIPTION:Registration for Canada's largest supply chain event is now open and SBOT Members can enjoy a 10% discount! USE CODE SBOT19\n\n\n\nJoin us and 2\,500 other delegates in Vancouver for two days of unparalleled networking and engaging industry-relevant seminars! There is something for everyone at Cargo Logistics Canada -- the entire supply chain under one roof!\n\n\n\nBook a la carte\, or purchase an All-Access Pass at an amazing price (all prices are before 10% SBOT discount):\n\n	Early-Bird Exposition Badge: $FREE (After January 11: $30)\n	Early-Bird Seminars: $55+ each (After January 11: $65+)\n	Early-Bird CLC-VIP Pass: $395 (After January 12: $440)\n\n\n\nIf you own the CARGO - Apply for the COMPLIMENTARY  PRIORITY SHIPPER ALL-ACCESS PASS. Don't delay! We predict seminars will fill up and sell out well before the event.\n\n\n\nThe  agenda and  registration are now LIVE!
X-ALT-DESC;FMTTYPE=text/html:Registration for Canada&#39\;s largest supply chain event is now open and <strong>SBOT Members can enjoy a 10% discount! USE CODE SBOT19</strong><br />\n<br />\nJoin us and 2\,500 other delegates in Vancouver for two days of unparalleled networking and engaging industry-relevant seminars! There is something for everyone at Cargo Logistics Canada -- the entire supply chain under one roof!<br />\n<br />\nBook a la carte\, or purchase an All-Access Pass at an amazing price (all prices are before 10% SBOT discount):\n<ul>\n	<li>Early-Bird Exposition Badge: $FREE (After January 11: $30)</li>\n	<li>Early-Bird Seminars: $55+ each (After January 11: $65+)</li>\n	<li>Early-Bird CLC-VIP Pass: $395 (After January 12: $440)</li>\n</ul>\n<br />\nIf you own the CARGO - Apply for the COMPLIMENTARY <a data-saferedirecturl="https://www.google.com/url?q=https://www.cargologisticscanada.com/en/attendees/priority-shipper-program.html&amp\;source=gmail&amp\;ust=1544555954131000&amp\;usg=AFQjCNFelqDcfBjav-ddNLh-VpEZ1OQdQw" href="https://www.cargologisticscanada.com/en/attendees/priority-shipper-program.html" target="_blank"> <span style="color:#0563c1\;">PRIORITY SHIPPER ALL-ACCESS PASS</span></a>. Don&#39\;t delay! We predict seminars will fill up and sell out well before the event.<br />\n<br />\nThe <a data-saferedirecturl="https://www.google.com/url?q=https://www.cargologisticscanada.com/en/conference-program/tuesday.html&amp\;source=gmail&amp\;ust=1544555954131000&amp\;usg=AFQjCNGUHAXYGNu36v0iYoVBSvuCr6cH6w" href="https://www.cargologisticscanada.com/en/conference-program/tuesday.html" target="_blank"> <span style="color:#0563c1\;">agenda</span></a> and <a data-saferedirecturl="https://www.google.com/url?q=https://www.cargologisticscanada.com/en/register.html&amp\;source=gmail&amp\;ust=1544555954131000&amp\;usg=AFQjCNH-s66eVhPD4zkcw4Bp8KewaiHeIw" href="https://www.cargologisticscanada.com/en/register.html" target="_blank"> <span style="color:#0563c1\;">registration</span></a> are now LIVE!
LOCATION:Vancouver Convention Centre West (1055 Canada Place Vancouver\, BC)
UID:e.749.10028
SEQUENCE:3
DTSTAMP:20260420T230544Z
URL:https://business.swrbot.com/events/details/cargo-logistics-canada-expo-conference-2019-02-05-2019-10028
END:VEVENT

END:VCALENDAR
