BEGIN:VCALENDAR
VERSION:2.0
PRODID:-//ChamberMaster//Event Calendar 2.0//EN
METHOD:PUBLISH
X-PUBLISHED-TTL:P3D
REFRESH-INTERVAL:P3D
CALSCALE:GREGORIAN
BEGIN:VEVENT
DTSTART;VALUE=DATE:20180206
DTEND;VALUE=DATE:20180209
TRANSP:TRANSPARENT
X-MICROSOFT-CDO-ALLDAYEVENT:TRUE
SUMMARY:Cargo Logistics Conference
DESCRIPTION:Connecting freight owners with freight movers   fostering multi modal synergy between diverse stakeholders in import\, export and domestic supply chains.
X-ALT-DESC;FMTTYPE=text/html:Connecting freight owners with freight movers &ndash\; fostering multi modal synergy between diverse stakeholders in import\, export and domestic supply chains.
LOCATION:Vancouver Convention Centre West - 1055 Canada Pl\, Vancouver\, BC V6C
UID:e.749.6710
SEQUENCE:3
DTSTAMP:20260421T141155Z
URL:https://business.swrbot.com/events/details/cargo-logistics-conference-02-06-2018-6710
END:VEVENT

END:VCALENDAR
