BEGIN:VCALENDAR
VERSION:2.0
PRODID:-//ChamberMaster//Event Calendar 2.0//EN
METHOD:PUBLISH
X-PUBLISHED-TTL:P3D
REFRESH-INTERVAL:P3D
CALSCALE:GREGORIAN
BEGIN:VEVENT
DTSTART:20190901T180000Z
DTEND:20190903T010000Z
X-MICROSOFT-CDO-ALLDAYEVENT:FALSE
SUMMARY:Carnaval del Sol Kelowna
DESCRIPTION:Details For the first time in Okanagan Valley is arriving Carnaval del Sol Kelowna. For the past 11 years Carnaval del Sol has been bringing the soul of Latin culture to BC. Carnaval del Sol Kelowna is a special edition of the iconic Carnaval del Sol Vancouver\, the biggest Latin Festival in the Pacific Northwest\, which will take place in Kelowna in September. We are bringing a phenomenal two-day fiesta to the heart of British Columbia during the Labour Day long weekend. Carnaval del Sol Kelowna will have a main stage and 4 plazas where we will recreate Latin American culture in true plaza style for the delight of both children and adults. It is a free event for everyone enjoy the Latin American culture and the summer together!
X-ALT-DESC;FMTTYPE=text/html:Details For the first time in Okanagan Valley is arriving Carnaval del Sol Kelowna. For the past 11 years Carnaval del Sol has been bringing the soul of Latin culture to BC. Carnaval del Sol Kelowna is a special edition of the iconic Carnaval del Sol Vancouver\, the biggest Latin Festival in the Pacific Northwest\, which will take place in Kelowna in September. We are bringing a phenomenal two-day fiesta to the heart of British Columbia during the Labour Day long weekend. Carnaval del Sol Kelowna will have a main stage and 4 plazas where we will recreate Latin American culture in true plaza style for the delight of both children and adults. It is a free event for everyone enjoy the Latin American culture and the summer together!
LOCATION:City Park Kelowna
UID:e.749.10562
SEQUENCE:3
DTSTAMP:20260420T140201Z
URL:https://business.swrbot.com/events/details/carnaval-del-sol-kelowna-09-01-2019-10562
END:VEVENT

END:VCALENDAR
