BEGIN:VCALENDAR
VERSION:2.0
PRODID:-//ChamberMaster//Event Calendar 2.0//EN
METHOD:PUBLISH
X-PUBLISHED-TTL:P3D
REFRESH-INTERVAL:P3D
CALSCALE:GREGORIAN
BEGIN:VEVENT
DTSTART:20140201T210000Z
DTEND:20140202T010000Z
X-MICROSOFT-CDO-ALLDAYEVENT:FALSE
SUMMARY:Celebrate Year of the Horse
DESCRIPTION:Neptune Seafood Restaurant & Surrey Central City Mall jointly organizing a Chinese New Year gathering.  Programs including Lion Dance (starting at 1:28pm)\; Caligraphy & Flour Dolls Making (12:30-4pm)\; Magic Show\; Chinese Pottery Display and Booth\; Lucky Draw (every 30 mins\, grand prize : $1000 shopping coupon/Neptune Dining Coupon\, etc) & Chinese instruments/songs performance and many more...........
X-ALT-DESC;FMTTYPE=text/html:<p>\n	Neptune Seafood Restaurant &amp\; Surrey Central City Mall jointly organizing a Chinese New Year gathering.&nbsp\; Programs including Lion Dance (starting at 1:28pm)\; Caligraphy &amp\; Flour Dolls Making (12:30-4pm)\; Magic Show\; Chinese Pottery Display and&nbsp\;Booth\; Lucky Draw (every 30 mins\, grand prize : $1000 shopping coupon/Neptune Dining Coupon\, etc) &amp\; Chinese instruments/songs performance and many more...........&nbsp\;</p>\n
LOCATION:Surrey Central City Mall
UID:e.749.2569
SEQUENCE:3
DTSTAMP:20260426T011240Z
URL:https://business.swrbot.com/events/details/celebrate-year-of-the-horse-02-01-2014-2569
END:VEVENT

END:VCALENDAR
