BEGIN:VCALENDAR
VERSION:2.0
PRODID:-//ChamberMaster//Event Calendar 2.0//EN
METHOD:PUBLISH
X-PUBLISHED-TTL:P3D
REFRESH-INTERVAL:P3D
CALSCALE:GREGORIAN
BEGIN:VEVENT
DTSTART:20140324T020000Z
DTEND:20140324T050000Z
X-MICROSOFT-CDO-ALLDAYEVENT:FALSE
SUMMARY:Celtic Woman
DESCRIPTION:Global music phenomenon\, Celtic Woman\, announces The Emerald Tour\, coming to the Abbotsford Entertainment & Sports Centre on Sunday\, March 23rd at 7:00pm. The all-new stage production will celebrate Ireland and the Emerald Isles' spellbinding Celtic heritage through an extraordinary presentation of traditional Irish anthems\, pop standards and original music by Emmy -nominated music producer\, David Downes. The Emerald Tour will showcase inspiring performances of timeless music with the unforgettable\, angelic voices of Celtic Woman.\n\n \n\nTICKET PRICES: $40.00\, $70.00\, $100.00\n\nGroups of 10 + Can save 10% OFF Per Ticket!! Contact our Group Sales Department at Groupsales@abbotsfordcentre.ca or 604-743-5030
X-ALT-DESC;FMTTYPE=text/html:<p class="MsoNoSpacing"><span style="font-size: 14pt\; background-position: initial initial\; background-repeat: initial initial\;">Global music phenomenon\, Celtic Woman\, announces The Emerald Tour\, coming to the Abbotsford Entertainment &amp\; Sports Centre on Sunday\, March 23rd at 7:00pm. The all-new stage production will celebrate Ireland and the Emerald Isles&rsquo\; spellbinding Celtic heritage through an extraordinary presentation of traditional Irish anthems\, pop standards and original music by Emmy&reg\;-nominated music producer\, David Downes. The Emerald Tour will showcase inspiring performances of timeless music with the unforgettable\, angelic voices of Celtic Woman.</span></p>\n\n<p class="MsoNoSpacing">&nbsp\;</p>\n\n<p class="MsoNoSpacing"><b><span style="font-size: 14pt\; background-position: initial initial\; background-repeat: initial initial\;">TICKET PRICES: $40.00\, $70.00\, $100.00</span></b><br />\n<span style="font-size:14.0pt">Groups of 10 + Can save 10% OFF Per Ticket!! Contact our Group Sales Department at </span><a href="mailto:Groupsales@abbotsfordcentre.ca"><b><span style="font-size:14.0pt">Groupsales@abbotsfordcentre.ca</span></b></a><span style="font-size:14.0pt"> or 604-743-5030</span><span style="font-size: 14pt\; background-position: initial initial\; background-repeat: initial initial\;"><o:p></o:p></span></p>\n
LOCATION:Abbotsford Entertainment & Sports Centre 33800 King Road Abbotsford\, BC V2S 8H8
UID:e.749.2599
SEQUENCE:3
DTSTAMP:20260425T235145Z
URL:https://business.swrbot.com/events/details/celtic-woman-03-23-2014-2599
END:VEVENT

END:VCALENDAR
